BEGIN:VCALENDAR
VERSION:2.0
PRODID:-//wp-events-plugin.com//7.2.3.1//EN
TZID:America/New_York
X-WR-TIMEZONE:America/New_York
BEGIN:VEVENT
UID:446@breatheatlanta.us
DTSTART;TZID=America/New_York:20240904T063000
DTEND;TZID=America/New_York:20240904T083000
DTSTAMP:20240904T074202Z
URL:https://breatheatlanta.us/events/sushi-workshop-with-olga-drua/
SUMMARY:Sushi Workshop with Olga Drua
DESCRIPTION:Aum Studio is excited to present a one-of-a-kind Sushi Mastercl
 ass for adults\, led by the talented and innovative Olga Dru. Whether you'
 re a seasoned sushi lover or new to the craft\, this class offers a remark
 able culinary journey that you won’t want to miss.\n\nIn this immersive 
 workshop\, you'll delve into the art of sushi-making with Olga’s expert 
 guidance. From mastering the perfect sushi rice to creating exquisite roll
 s\, you’ll learn techniques that will elevate your skills to new heights
 .\n\nThis isn’t just any sushi class—Olga will bring her artistic flai
 r into the kitchen\, inspiring you to unleash your creativity and craft su
 shi that is as visually stunning as it is delicious.\n\nTo enhance the exp
 erience\, the class includes thoughtfully selected sake pairings that perf
 ectly complement the flavors of your sushi creations\, elevating your culi
 nary adventure.\n\nSavor your sushi masterpieces during the class or take 
 them home to share with loved ones. With limited spots available due to th
 e intimate\, hands-on nature of the session\, early reservations are highl
 y recommended to secure your place.\n\nGET TICKETS\n
ATTACH;FMTTYPE=image/jpeg:https://breatheatlanta.us/wp-content/uploads/202
 4/09/Sushi-Workshop-with-Olga-Dru.jpg
CATEGORIES:Mindfulness Events,Things To Do,Wellness Events
LOCATION:Aum Studio for Wellness\,  11550 Webb Bridge Way #Suite B2 \, GA\,
  Alpharetta\, 30005 \, GA\, United States
X-APPLE-STRUCTURED-LOCATION;VALUE=URI;X-ADDRESS= 11550 Webb Bridge Way #Sui
 te B2 \, GA\, Alpharetta\, 30005 \, GA\, United States;X-APPLE-RADIUS=100;
 X-TITLE=Aum Studio for Wellness:geo:0,0
END:VEVENT
BEGIN:VTIMEZONE
TZID:America/New_York
X-LIC-LOCATION:America/New_York
BEGIN:DAYLIGHT
DTSTART:20240310T030000
TZOFFSETFROM:-0500
TZOFFSETTO:-0400
TZNAME:EDT
END:DAYLIGHT
END:VTIMEZONE
END:VCALENDAR