BEGIN:VCALENDAR
VERSION:2.0
PRODID:-//wp-events-plugin.com//7.2.3.1//EN
TZID:America/New_York
X-WR-TIMEZONE:America/New_York
BEGIN:VEVENT
UID:57@breatheatlanta.us
DTSTART;TZID=America/New_York:20240506T120000
DTEND;TZID=America/New_York:20240509T120000
DTSTAMP:20240909T101646Z
URL:https://breatheatlanta.us/events/swaay-health-live-2024/
SUMMARY:Swaay Health Live 2024
DESCRIPTION:\n\n\n\n\n\n\n\n\n\n\n\n\n🌟 Step into a world of innovation 
 and collaboration at Swaay.Health Live 2024 – the premier gathering of h
 ealthcare B2B and B2C marketers! 🏥💼\n\nFormerly known as the HITMC A
 nnual Conference\, this event promises an unparalleled learning experience
  unlike any other. We bring together the brightest minds and most forward-
 thinking professionals in the healthcare marketing industry for a transfor
 mative journey of discovery and growth.\n\nWhether you're a seasoned marke
 ter or a newcomer to the field\, Swaay\, Health Live offers a unique oppor
 tunity to expand your horizons\, explore emerging trends\, and gain invalu
 able insights into the rapidly evolving landscape of healthcare marketing.
  From dynamic keynote speakers to interactive workshops and networking opp
 ortunities\, every moment of this event is designed to inspire\, educate\,
  and empower.\n\nWe redefine the future of healthcare marketing and unlock
  new possibilities for success.\n\n\n\n\n\n\n\n\n\n\n\n\n\nEvent Informati
 on:\n\nEvent Name: Swaay.Health Live 2024\n\nHosted By: Healthcare Scene\n
 \nDate and Time:\n\nDate: Monday\, May 6 - Thursday\, May 9\n\nTime: May 6
 : 12:00 PM - May 9: 12:00 PM EDT\n\nLocation:\n\nVenue: W Hotel Atlanta\n\
 nAddress: 45 Ivan Allen Junior Boulevard Northwest\, Atlanta\, GA 30308\, 
 United States\n\nParking Options: Information not provided.\n\nTicket Info
 rmation:\n\nEarly Bird Registration: $1\,145.00 (+$101.91 Sales Tax)\n\nSa
 les end on March 22\, 2024.\n\nPre-conference Workshop: $295.00 (+$26.26 S
 ales Tax)\n\nSales end on April 14\, 2024.\n\nRegular Registration: $1\,34
 5.00 (+$119.71 Sales Tax)\n\nSales start on March 23\, 2024.\n\nSuper Earl
 y Bird Registration: Sales Ended\n\n$745.00 (+$66.31 Sales Tax)\n\nGET TIC
 KETS\n\nAbout This Event: The largest gathering of healthcare B2B and B2C 
 marketers for a unique learning experience (formerly HITMC Annual Conferen
 ce). Swaay.Health Live 2024 promises to be an immersive event featuring dy
 namic speakers\, interactive workshops\, and unparalleled networking oppor
 tunities. From innovative marketing strategies to cutting-edge technologie
 s\, this conference offers invaluable insights and resources to propel you
 r healthcare marketing initiatives to new heights. Explore the latest tren
 ds\, connect with industry leaders\, and gain actionable strategies to dri
 ve success in today's ever-evolving healthcare landscape. Don't miss this 
 opportunity to be part of a transformative event that will shape the futur
 e of healthcare marketing. Find all of the details for Swaay.Health Live 2
 024 on the conference website: Swaay.Health Conference\n\n&nbsp\;\n\nEssen
 tials to Bring:\n\nItems are essential for notetaking and learning.
ATTACH;FMTTYPE=image/jpeg:https://breatheatlanta.us/wp-content/uploads/202
 4/03/https___cdn.evbuc_.com_images_629904219_48528147684_1_original.jpeg
CATEGORIES:Wellness Events
LOCATION:W Hotel Atlanta\, 45 Ivan Allen Junior Boulevard Northwest Atlanta
  GA 30308 United States\,  GA \,  United States\, 30308\, GA\, United Stat
 es
X-APPLE-STRUCTURED-LOCATION;VALUE=URI;X-ADDRESS=45 Ivan Allen Junior Boulev
 ard Northwest Atlanta GA 30308 United States\,  GA \,  United States\, 303
 08\, GA\, United States;X-APPLE-RADIUS=100;X-TITLE=W Hotel Atlanta:geo:0,0
END:VEVENT
BEGIN:VTIMEZONE
TZID:America/New_York
X-LIC-LOCATION:America/New_York
BEGIN:DAYLIGHT
DTSTART:20240310T030000
TZOFFSETFROM:-0500
TZOFFSETTO:-0400
TZNAME:EDT
END:DAYLIGHT
END:VTIMEZONE
END:VCALENDAR