BEGIN:VCALENDAR
VERSION:2.0
PRODID:-//wp-events-plugin.com//7.2.3.1//EN
TZID:America/New_York
X-WR-TIMEZONE:America/New_York
BEGIN:VEVENT
UID:160@breatheatlanta.us
DTSTART;TZID=America/New_York:20240426T070000
DTEND;TZID=America/New_York:20240426T100000
DTSTAMP:20240327T230048Z
URL:https://breatheatlanta.us/events/sway-with-samone-dance-fitness/
SUMMARY:Sway With Samone Dance Fitness
DESCRIPTION:\n\n\n\n\n\n\n\n\n\n\n\n\nCome the vibe and let's have a blast 
 dancing together! Feel free to bring along your friends and family for an 
 unforgettable experience. This class is perfect for beginners.\n\nInformat
 ion Event:\n\nEvent Name: Sway With Samone Dance Fitness\nHost: Samone\nDa
 te and Time: Friday\, April 26 • 7:00 - 10:00pm EDT\nLocation: Impact Da
 nce of Atlanta (Next to Planet Fitness)\, 3161 Cobb Pkwy NW #440 Kennesaw\
 , GA 30152\, United States\nTicket Price:\n\n 	General Admission (IN-PERSO
 N): $8.00\n 	General Admission (ONLINE TICKET): $8.00\nSales end on Apr 26
 \, 2024\n\nAbout this Event:\nSway With Samone (SWS) brings you a vibrant 
 dance fitness class suitable for beginners and dance enthusiasts alike. Jo
 in us for 45 minutes of energetic moves and positive vibes. Whether you pr
 efer to attend in-person or virtually\, get ready to groove to an exciting
  fitness playlist and connect with like-minded individuals. Bring along yo
 ur friends and family for an unforgettable experience!\n\nTicket Informati
 on:\n\n 	General Admission (IN-PERSON): $8.00\n 	General Admission (ONLINE
  TICKET): $8.00\n\n\nGET TICKETS\n\nWorkout Session Detail:\nSway With Sam
 one (SWS) is a dynamic dance fitness class revolutionizing the fitness sce
 ne. The class welcomes participants of all skill levels and promises a beg
 inner-friendly atmosphere. Join us for an exhilarating 45-minute session f
 illed with fun moves and a fantastic fitness playlist.\n\nEssential for At
 tendees:\nBring your energy\, enthusiasm\, and comfortable workout attire.
  For virtual attendees\, ensure you have a stable internet connection and 
 enough space to move around freely.\n\nParking Option:\nThe event venue\, 
 Impact Dance of Atlanta\, is conveniently located next to Planet Fitness. 
 Ample parking space is available for your convenience.\n\nRefund Policy:\n
 Tickets are nonrefundable. For any inquiries or assistance\, please contac
 t the organizer via email at swaywithsamone@gmail.com or through social me
 dia channels.\n\nImportant Note:\nEvent location is subject to change. Sta
 y updated on event details and announcements by following Samone on Instag
 ram and Facebook. Check out the linktree provided for quick access to all 
 social media platforms and additional information.\n\nSocial Media and Con
 tact Information:\n\n 	Instagram: @swaywithsamone\n 	Facebook: Sway With S
 amone\n 	Email: swaywithsamone@gmail.com\n\n\n\n\n\n\n\n\n\n\n\n\n\n
ATTACH;FMTTYPE=image/jpeg:https://breatheatlanta.us/wp-content/uploads/202
 4/03/https___cdn.evbuc_.com_images_668721789_490468319349_1_original.jpg
CATEGORIES:Wellness Events,Yoga Events
LOCATION:Impact Dance of Atlanta ( Next to Planet Fitness)\, 3161 Cobb Pkwy
  NW #440 Kennesaw\, GA 30152 United States\, GA \,  United States\, 30152\
 , GA \, United States
X-APPLE-STRUCTURED-LOCATION;VALUE=URI;X-ADDRESS=3161 Cobb Pkwy NW #440 Kenn
 esaw\, GA 30152 United States\, GA \,  United States\, 30152\, GA \, Unite
 d States;X-APPLE-RADIUS=100;X-TITLE=Impact Dance of Atlanta ( Next to Plan
 et Fitness):geo:0,0
END:VEVENT
BEGIN:VTIMEZONE
TZID:America/New_York
X-LIC-LOCATION:America/New_York
BEGIN:DAYLIGHT
DTSTART:20240310T030000
TZOFFSETFROM:-0500
TZOFFSETTO:-0400
TZNAME:EDT
END:DAYLIGHT
END:VTIMEZONE
END:VCALENDAR