BEGIN:VCALENDAR
VERSION:2.0
PRODID:-//wp-events-plugin.com//7.2.3.1//EN
TZID:America/New_York
X-WR-TIMEZONE:America/New_York
BEGIN:VEVENT
UID:172@breatheatlanta.us
DTSTART;TZID=America/New_York:20240411T173000
DTEND;TZID=America/New_York:20240411T183000
DTSTAMP:20240328T092326Z
URL:https://breatheatlanta.us/events/t-a-p-in-training/
SUMMARY:T.A.P. In Training
DESCRIPTION:Experience the transformative power of T.A.P. In sessions: week
 ly fitness sessions fueled by Metric Mate at the Russell Center\, every Tu
 esday and Thursday at 5:30 PM.\n\nEvent Information:\n\nEvent: T.A.P. In T
 raining\n\nHost: By Metric Mate\n\nDate and Time: Thursday\, April 11\, 5
 :30 - 6:30 PM EDT.\n\nLocation: Russell Innovation Center for Entrepreneur
 s\, 504 Fair Street Southwest\, Atlanta\, GA 30313\, United States\n\nTick
 et Information:\n\nTicket Price: Free\n\nGET TICKETS\n\n\n\nAbout this Eve
 nt: Dive into an unparalleled fitness experience with our T.A.P. In traini
 ng sessions\, hosted weekly at the Russell Innovation Center for Entrepren
 eurs. Powered by Metric Mate\, these sessions transcend mere workouts\; th
 ey're transformative journeys crafted to ignite both your entrepreneurial 
 spirit and physical potential.\n\nWorkout Session Detail: Led by world-cla
 ss trainers\, our T.A.P. In sessions blend cutting-edge fitness methodolog
 ies with an entrepreneurial ethos\, offering a unique fusion of motivation
  and movement. Each session\, scheduled every Tuesday and Thursday at 5:30
  PM\, promises to propel you towards your fitness goals while nurturing yo
 ur ambition for success.\n\nEssentials to Bring: Come prepared with your w
 orkout attire\, a water bottle\, and an open mind ready to embrace the cha
 llenge and growth that awaits.\n\nParking Option: Specific parking informa
 tion is not provided. Please check local parking availability near the Rus
 sell Innovation Center for Entrepreneurs.\n\nEmbrace the synergy of ambiti
 on and action at T.A.P. In training sessions\, where every step forward is
  a stride towards your aspirations. Unlock the potential within to drive b
 oth your fitness and entrepreneurial endeavors to new heights.\n\n
ATTACH;FMTTYPE=image/jpeg:https://breatheatlanta.us/wp-content/uploads/202
 4/03/https___cdn.evbuc_.com_images_728440699_272548191312_1_original.jpeg
CATEGORIES:Wellness Events,Yoga Events
LOCATION:Russell Innovation Center for Entrepreneurs\, 504 Fair Street Sout
 hwest Atlanta\, GA 30313 United States\, GA \, United States\, 30313 \, GA
 \, United States
X-APPLE-STRUCTURED-LOCATION;VALUE=URI;X-ADDRESS=504 Fair Street Southwest A
 tlanta\, GA 30313 United States\, GA \, United States\, 30313 \, GA\, Unit
 ed States;X-APPLE-RADIUS=100;X-TITLE=Russell Innovation Center for Entrepr
 eneurs:geo:0,0
END:VEVENT
BEGIN:VTIMEZONE
TZID:America/New_York
X-LIC-LOCATION:America/New_York
BEGIN:DAYLIGHT
DTSTART:20240310T030000
TZOFFSETFROM:-0500
TZOFFSETTO:-0400
TZNAME:EDT
END:DAYLIGHT
END:VTIMEZONE
END:VCALENDAR