BEGIN:VCALENDAR
VERSION:2.0
PRODID:-//wp-events-plugin.com//7.2.3.1//EN
TZID:America/New_York
X-WR-TIMEZONE:America/New_York
BEGIN:VEVENT
UID:178@breatheatlanta.us
DTSTART;TZID=America/New_York:20240413T120000
DTEND;TZID=America/New_York:20240413T140000
DTSTAMP:20240329T064844Z
URL:https://breatheatlanta.us/events/tagt-presents-women-wellness/
SUMMARY:TAGT Presents: Women & Wellness
DESCRIPTION:\n\n\n\n\n\n\n\n\n\n\n\n\nGain practical strategies to promote 
 wellness in your daily life.\n\nEvent Information:\n\nEvent Name: TAGT Pre
 sents: Women &amp\; Wellness\n\nDate and Time: Saturday\, April 13\, 12:00
  PM - 2:00 PM EDT.\n\nLocation: Buckhead Library\, 269 Buckhead Avenue Nor
 theast\, Atlanta\, GA 30305\, United States\n\nAbout this Event: TAGT Pres
 ents: Women &amp\; Wellness on Saturday\, April 13\, from 12:00 PM to 2:00
  PM EDT at Buckhead Library. Acquire practical ways to foster wellness in 
 your life with insights from Marissa Jones &amp\; Angela Caldwell-Lawson\,
  Licensed Clinical Social Workers.\n\nWellness encompasses different dimen
 sions of our lives that contribute to our overall well-being. At #TAGT\, o
 ur goal is not only to discuss the challenges we face but also to provide 
 the tools to thrive. Join us for an invaluable experience as we explore wh
 at it means to be well.\n\nTicket Information:\n\nGeneral Admission: $15.0
 0\n\nFees: $2.85\n\nTotal: $17.85 (Includes sales tax)\n\nGET TICKETS\n\n\
 n\nParking Options: Parking information is not provided. Attendees are adv
 ised to check local parking availability or consider alternative transport
 ation options.\n\n\n\n\n\n\n\n\n\n\n\n\n\n
ATTACH;FMTTYPE=image/jpeg:https://breatheatlanta.us/wp-content/uploads/202
 4/03/https___cdn.evbuc_.com_images_729030559_1965784405983_1_original.jpg
CATEGORIES:Wellness Events,Yoga Events
LOCATION:Buckhead Library\, 269 Buckhead Avenue Northeast Atlanta\, GA 3030
 5 United States\, GA \, United States\, 30305 \, GA\, United States
X-APPLE-STRUCTURED-LOCATION;VALUE=URI;X-ADDRESS=269 Buckhead Avenue Northea
 st Atlanta\, GA 30305 United States\, GA \, United States\, 30305 \, GA\, 
 United States;X-APPLE-RADIUS=100;X-TITLE=Buckhead Library:geo:0,0
END:VEVENT
BEGIN:VTIMEZONE
TZID:America/New_York
X-LIC-LOCATION:America/New_York
BEGIN:DAYLIGHT
DTSTART:20240310T030000
TZOFFSETFROM:-0500
TZOFFSETTO:-0400
TZNAME:EDT
END:DAYLIGHT
END:VTIMEZONE
END:VCALENDAR