BEGIN:VCALENDAR
VERSION:2.0
PRODID:-//wp-events-plugin.com//7.2.3.1//EN
TZID:America/New_York
X-WR-TIMEZONE:America/New_York
BEGIN:VEVENT
UID:691@breatheatlanta.us
DTSTART;TZID=America/New_York:20241118T100000
DTEND;TZID=America/New_York:20241118T140000
DTSTAMP:20241024T154636Z
URL:https://breatheatlanta.us/events/taste-of-yoga/
SUMMARY:Taste of Yoga
DESCRIPTION:Attendees can expect a series of 25-minute yoga "taster" sessio
 ns from various studios\, alongside health and wellness experience station
 s\, plus a bit of shopping. Participants are welcome to take one class or 
 all\, with the freedom to move between classes\, chat with fellow attendee
 s\, and explore local businesses. There are no strict rules\, so everyone 
 can go at their own pace.\n\nEvent Schedule:\n\n 	9:00 AM: Doors Open — 
 Enjoy snacks\, drinks\, and collect your swag bag.\n 	9:30 AM: Sound Bath 
 with Dear Life Chat.\n 	10:00 AM: Power Flow with Inside Flow.\n 	10:30 AM
 : Yoga Sculpt with Havely Yoga.\n 	9:00 AM - 1:00 PM: Wellness Experience 
 Stations.\n\nExperience Stations Include:\n\n 	Mini wellness check-ins wit
 h Stat Wellness.\n 	Mini massages and facials by Enchanted Esthetics.\n 	C
 lothing shopping at NaturAl Life.\n 	Refreshing drinks\, smoothies\, and b
 owls by D Tox.\n\nIf you’re interested in becoming a vendor\, contact Ka
 t at thebeautyboostatlanta@gmail.com. They are currently looking for yoga 
 instructors\, fitness coaches\, and wellness businesses to join the event!
 \n\nAbout The Beauty Boost: The Beauty Boost is a supportive community foc
 used on helping women feel healthy\, empowered\, and beautiful. They host 
 a variety of events throughout the year\, including social gatherings\, em
 powerment workshops\, retreats\, and fitness samplers. This event is one o
 f many\, and Year Pass holders can attend for free!\n\nFor more details or
  to purchase a Year Pass\, visit HERE.\n\nNote:\n\n 	No refunds for this e
 vent.\n 	By attending\, you consent to be photographed or filmed for promo
 tional purposes across various media platforms.\n\n\nGET TICKETS\n
ATTACH;FMTTYPE=image/jpeg:https://breatheatlanta.us/wp-content/uploads/202
 4/10/Taste-of-Yoga.jpeg
CATEGORIES:Yoga Events
LOCATION:The Interlock\, 1115 Howell Mill Road \, Atlanta\, GA\, 30318 \, G
 A\, United States
X-APPLE-STRUCTURED-LOCATION;VALUE=URI;X-ADDRESS=1115 Howell Mill Road \, At
 lanta\, GA\, 30318 \, GA\, United States;X-APPLE-RADIUS=100;X-TITLE=The In
 terlock:geo:0,0
END:VEVENT
BEGIN:VTIMEZONE
TZID:America/New_York
X-LIC-LOCATION:America/New_York
BEGIN:STANDARD
DTSTART:20241103T010000
TZOFFSETFROM:-0400
TZOFFSETTO:-0500
TZNAME:EST
END:STANDARD
END:VTIMEZONE
END:VCALENDAR