BEGIN:VCALENDAR
VERSION:2.0
PRODID:-//wp-events-plugin.com//7.2.3.1//EN
TZID:America/New_York
X-WR-TIMEZONE:America/New_York
BEGIN:VEVENT
UID:752@breatheatlanta.us
DTSTART;TZID=America/New_York:20250215T110000
DTEND;TZID=America/New_York:20250215T130000
DTSTAMP:20250201T113954Z
URL:https://breatheatlanta.us/events/teen-mental-health-support-guiding-yo
 uth-toward-healing-growth/
SUMMARY:Teen Mental Health Support – Guiding Youth Toward Healing & Growt
 h
DESCRIPTION:Navigating adolescence can be challenging\, especially for teen
 s struggling with anxiety\, depression\, social difficulties\, or past tra
 uma. At Favor Academy of Excellence\, a comprehensive support system is in
  place to help families guide their teens toward healing\, resilience\, an
 d personal growth.\nHolistic Support Through Individual &amp\; Group Sessi
 ons\nFavor Academy offers weekly Individual and Group Restorative Sessions
 \, providing a safe and structured space for teens to process their emotio
 ns\, build confidence\, and develop essential life skills.\n\nUsing the RL
 M Therapeutic Framework\, these sessions address a range of critical issue
 s\, including:\n✅ Bullying &amp\; Social Interaction Challenges – Help
 ing teens build confidence and form healthy relationships\n✅ Low Self-Es
 teem &amp\; Emotional Resilience – Encouraging self-worth and emotional 
 well-being\n✅ Trauma Recovery &amp\; Mental Wellness – Providing tools
  to navigate and heal from past experiences\n✅ Aggression &amp\; Violenc
 e Intervention – Equipping youth with conflict resolution and coping str
 ategies\n✅ Juvenile Reentry Support – Assisting teens in transitioning
  back into their communities with confidence\nExpert Guidance &amp\; Evide
 nce-Based Support\nSessions are facilitated by certified RLM Practitioners
 \, ensuring that every participant receives personalized\, professional\, 
 and compassionate care tailored to their unique challenges.\nA Brighter Pa
 th for Your Teen\nSupporting your teen’s mental health is a crucial step
  toward their overall well-being and future success. Favor Academy is here
  to help you\, help them—offering the guidance\, tools\, and community t
 hey need to thrive emotionally\, socially\, and mentally.\n\n📍 Get star
 ted today! Contact Favor Academy of Excellence to learn more about enrollm
 ent and session availability.\n\nGET TICKETS\n
ATTACH;FMTTYPE=image/jpeg:https://breatheatlanta.us/wp-content/uploads/202
 5/02/Teen-Mental-Health-Support.jpeg
CATEGORIES:Wellness Events
LOCATION:FAE Tutoring and Intervention Center\, 8641 Dorris Road\, Suite 23
 0B Douglasville\, Georgia\, 30134 \, GA\, United States
X-APPLE-STRUCTURED-LOCATION;VALUE=URI;X-ADDRESS=8641 Dorris Road\, Suite 23
 0B Douglasville\, Georgia\, 30134 \, GA\, United States;X-APPLE-RADIUS=100
 ;X-TITLE=FAE Tutoring and Intervention Center:geo:0,0
END:VEVENT
BEGIN:VTIMEZONE
TZID:America/New_York
X-LIC-LOCATION:America/New_York
BEGIN:STANDARD
DTSTART:20241103T010000
TZOFFSETFROM:-0400
TZOFFSETTO:-0500
TZNAME:EST
END:STANDARD
END:VTIMEZONE
END:VCALENDAR