BEGIN:VCALENDAR
VERSION:2.0
PRODID:-//wp-events-plugin.com//7.2.3.1//EN
TZID:America/New_York
X-WR-TIMEZONE:America/New_York
BEGIN:VEVENT
UID:696@breatheatlanta.us
DTSTART;TZID=America/New_York:20241123T110000
DTEND;TZID=America/New_York:20241123T130000
DTSTAMP:20241024T163718Z
URL:https://breatheatlanta.us/events/teen-mental-health-support/
SUMMARY:Teen Mental Health Support
DESCRIPTION:If your teenager is grappling with anxiety\, depression\, diffi
 culties in social interactions\, or processing traumatic experiences\, Fav
 or Academy of Excellence is here to support you in helping them. Adolescen
 ce can be a challenging time\, and teens often face mental health struggle
 s that require specialized attention and care.\n\nFavor Academy offers bot
 h individual and group restorative sessions every week\, designed to provi
 de teens with the tools and guidance they need to heal\, grow\, and thrive
 . These sessions are built around our evidence-based RLM Therapeutic Frame
 work\, which focuses on addressing the unique mental health challenges tee
 ns face today\, such as:\n\n 	Bullying: Helping teens navigate the emotion
 al impact of being bullied and building resilience.\n 	Low Self-Esteem: Em
 powering teens to recognize their worth\, develop confidence\, and build a
  positive self-image.\n 	Social Interaction: Enhancing communication skill
 s and fostering healthier\, more meaningful relationships with peers and a
 dults.\n 	Traumatic Experiences: Offering a safe space for teens to proces
 s trauma\, rebuild their sense of security\, and move forward with hope.\n
  	Aggression and Violence Intervention: Addressing behavioral challenges a
 nd providing strategies for managing emotions constructively.\n 	Juvenile 
 Reentry: Supporting teens in reintegrating into their communities and scho
 ols after involvement with the justice system.\n\nAll sessions are led by 
 certified RLM Practitioners\, experts in adolescent mental health who are 
 dedicated to offering compassionate\, personalized care. Whether your teen
  needs one-on-one attention or thrives in a group setting\, our restorativ
 e sessions are designed to meet their needs and support their emotional an
 d mental well-being.\n\nWhy Choose Favor Academy?\n\n 	Tailored Therapeuti
 c Approach: Our RLM Therapeutic Framework is specifically designed to addr
 ess the complexities of teenage mental health\, ensuring that every sessio
 n is relevant and impactful.\n 	Certified Experts: Each session is led by 
 skilled practitioners with extensive experience in youth mental health and
  restorative practices.\n 	Safe\, Supportive Environment: We provide a nur
 turing space where teens feel heard\, respected\, and empowered to express
  their emotions and challenges without judgment.\n\nAt Favor Academy of Ex
 cellence\, we believe in not only addressing the symptoms of mental health
  issues but also in fostering long-term growth\, resilience\, and healing 
 for teens.\n\nContact Us to Learn More\n\nIf you are ready to take the nex
 t step in supporting your teen's mental health\, contact us today. Let us 
 help you\, help them find the path to emotional well-being and a brighter 
 future.\n\nGET TICKETS\n
ATTACH;FMTTYPE=image/jpeg:https://breatheatlanta.us/wp-content/uploads/202
 4/10/Teen-Mental-Health-Support.jpg
CATEGORIES:Wellness Events
LOCATION:FAE Tutoring and Intervention Center\, 8641 Dorris Road\, Suite 23
 0B Douglasville\, Georgia\, 30134 \, GA\, United States
X-APPLE-STRUCTURED-LOCATION;VALUE=URI;X-ADDRESS=8641 Dorris Road\, Suite 23
 0B Douglasville\, Georgia\, 30134 \, GA\, United States;X-APPLE-RADIUS=100
 ;X-TITLE=FAE Tutoring and Intervention Center:geo:0,0
END:VEVENT
BEGIN:VTIMEZONE
TZID:America/New_York
X-LIC-LOCATION:America/New_York
BEGIN:STANDARD
DTSTART:20241103T010000
TZOFFSETFROM:-0400
TZOFFSETTO:-0500
TZNAME:EST
END:STANDARD
END:VTIMEZONE
END:VCALENDAR