BEGIN:VCALENDAR
VERSION:2.0
PRODID:-//wp-events-plugin.com//7.2.3.1//EN
TZID:America/New_York
X-WR-TIMEZONE:America/New_York
BEGIN:VEVENT
UID:5@breatheatlanta.us
DTSTART:20230725T083000Z
DTEND:20240725T123000Z
DTSTAMP:20260420T203231Z
URL:
SUMMARY:Test
DESCRIPTION:
END:VEVENT
END:VCALENDAR