BEGIN:VCALENDAR
VERSION:2.0
PRODID:-//wp-events-plugin.com//7.2.3.1//EN
TZID:America/New_York
X-WR-TIMEZONE:America/New_York
BEGIN:VEVENT
UID:519@breatheatlanta.us
DTSTART;TZID=America/New_York:20241031T210000
DTEND;TZID=America/New_York:20241101T013000
DTSTAMP:20240928T080713Z
URL:https://breatheatlanta.us/events/the-4th-annual-vampire-ball/
SUMMARY:The 4th Annual Vampire Ball
DESCRIPTION:An invitation has been extended to all vampires\, witches\, and
  other creatures of the night for an unforgettable evening of mystery and 
 magic at the 4th Annual Vampire Ball. This year\, the event finds its new 
 home at the enchanting Pigalle Theater &amp\; Speakeasy\, nestled in the h
 eart of Underground Atlanta on Lower Alabama Street.\n\nAttendees can anti
 cipate a night steeped in decadence and allure\, filled with captivating p
 erformances\, themed entertainment\, and an atmosphere brimming with gothi
 c elegance. The Vampire Ball promises to transport guests into a world whe
 re fantasy and reality intertwine\, allowing them to indulge in the darker
  side of Halloween revelry.\n\nParticipants are encouraged to don their mo
 st extravagant costumes\, whether they choose to embody classic vampires\,
  modern witches\, or other fantastical beings. With music\, dancing\, and 
 a host of surprises awaiting\, this event is set to be an exhilarating cel
 ebration of all things spooky.\n\nAs the night unfolds\, guests will mingl
 e and revel in the magical ambiance\, making memories that will last long 
 after the final dance. The 4th Annual Vampire Ball is not just an event\; 
 it’s an experience that invites everyone to embrace their inner creature
  of the night. Don’t miss out on this thrilling opportunity to join the 
 dark festivities!\n\nGET TICKETS\n
ATTACH;FMTTYPE=image/jpeg:https://breatheatlanta.us/wp-content/uploads/202
 4/09/The-4th-Annual-Vampire-Ball.jpg
CATEGORIES:Things To Do
LOCATION:Underground Atlanta\, 50 Upper Alabama Street Atlanta\, Atlanta\, 
 Georgia\, 30303\, GA\, United States
X-APPLE-STRUCTURED-LOCATION;VALUE=URI;X-ADDRESS=50 Upper Alabama Street Atl
 anta\, Atlanta\, Georgia\, 30303\, GA\, United States;X-APPLE-RADIUS=100;X
 -TITLE=Underground Atlanta:geo:0,0
END:VEVENT
BEGIN:VTIMEZONE
TZID:America/New_York
X-LIC-LOCATION:America/New_York
BEGIN:DAYLIGHT
DTSTART:20240310T030000
TZOFFSETFROM:-0500
TZOFFSETTO:-0400
TZNAME:EDT
END:DAYLIGHT
END:VTIMEZONE
END:VCALENDAR