BEGIN:VCALENDAR
VERSION:2.0
PRODID:-//wp-events-plugin.com//7.2.3.1//EN
TZID:America/New_York
X-WR-TIMEZONE:America/New_York
BEGIN:VEVENT
UID:326@breatheatlanta.us
DTSTART;TZID=America/New_York:20240720T110000
DTEND;TZID=America/New_York:20240720T121500
DTSTAMP:20240627T052020Z
URL:https://breatheatlanta.us/events/the-a-experience-w-aureilia-dance-fit
 ness-tour/
SUMMARY:The A Experience w/ Aureilia (Dance Fitness Tour)
DESCRIPTION:Prepare to GET FIT and HAVE FUN with The A Experience\, a dynam
 ic dance fitness tour led by veteran instructor Aureilia Jones. This high-
 energy workout promises over 50 minutes of intense cardio\, featuring a mi
 x of hip-hop\, trap\, Soca\, and more.\n\nEvent Details:\n\n 	Duration: En
 joy a packed session of over 50 minutes of high-energy cardio.\n 	Music: G
 roove to an electrifying mix of hip-hop\, trap\, Soca\, and other energeti
 c genres.\n 	Instructor: Led by the experienced and inspiring Aureilia Jon
 es\, a veteran in dance fitness.\n\nWhat to Expect:\n\n 	High-Energy Worko
 ut: Engage in a vigorous and fun workout that will get your heart pumping 
 and your body moving.\n 	Top-Tier Experience: Benefit from Aureilia's expe
 rtise and enthusiasm\, ensuring a memorable and effective fitness session.
 \n 	Social Fun: Bring a friend and share the excitement—this is one clas
 s you won't want to miss.\n\nWhy Attend:\n\n 	Fitness and Fun: Combine fit
 ness and fun in a workout that feels more like a dance party than exercise
 .\n 	Expert Instruction: Receive top-notch guidance from a seasoned dance 
 fitness professional.\n 	Community: Connect with others who share your pas
 sion for dance and fitness in a lively\, supportive environment.\n\nJoin U
 s:\n\nMark your calendars and get ready for an unforgettable workout with 
 The A Experience. Bring your hydration and a friend\, and join us for a fi
 tness session that will leave you energized and exhilarated. Don’t miss 
 this chance to dance\, sweat\, and have a blast!\n\nGET TICKETS\n
ATTACH;FMTTYPE=image/jpeg:https://breatheatlanta.us/wp-content/uploads/202
 4/06/The-A-Experience-wAureilia-Dance-Fitness-Tour.jpg
CATEGORIES:Sports &amp; Fitness Events,Wellness Events
LOCATION:Creatives Rental Space\, 1483 Chattahoochee Avenue Northwest #Suit
 e 110 \, Atlanta\, Georgia\, 30318\, GA\, United States
X-APPLE-STRUCTURED-LOCATION;VALUE=URI;X-ADDRESS=1483 Chattahoochee Avenue N
 orthwest #Suite 110 \, Atlanta\, Georgia\, 30318\, GA\, United States;X-AP
 PLE-RADIUS=100;X-TITLE=Creatives Rental Space:geo:0,0
END:VEVENT
BEGIN:VTIMEZONE
TZID:America/New_York
X-LIC-LOCATION:America/New_York
BEGIN:DAYLIGHT
DTSTART:20240310T030000
TZOFFSETFROM:-0500
TZOFFSETTO:-0400
TZNAME:EDT
END:DAYLIGHT
END:VTIMEZONE
END:VCALENDAR