BEGIN:VCALENDAR
VERSION:2.0
PRODID:-//wp-events-plugin.com//7.2.3.1//EN
TZID:America/New_York
X-WR-TIMEZONE:America/New_York
BEGIN:VEVENT
UID:360@breatheatlanta.us
DTSTART;TZID=America/New_York:20240802T200000
DTEND;TZID=America/New_York:20240803T030000
DTSTAMP:20240730T062144Z
URL:https://breatheatlanta.us/events/the-arts-atlanta-first-fridays/
SUMMARY:The ARTS Atlanta First Fridays
DESCRIPTION:Get ready for The ARTS Atlanta First Fridays\, the city's large
 st and most dynamic music and arts festival. This exhilarating monthly eve
 nt promises an unforgettable evening filled with a vibrant mix of fine art
 s\, live music\, poetry\, film\, fashion\, and culinary delights.\n\nAn Ev
 ening of Unparalleled Entertainment\n\nHeld on the first Friday of each mo
 nth\, this festival transforms Atlanta into a cultural hub\, offering an e
 clectic array of experiences that showcase the best of local talent. Wheth
 er you're an art enthusiast\, music lover\, or simply looking for a lively
  night out\, The ARTS Atlanta First Fridays is the place to be.\n\nWhat to
  Expect\n\n 	Live Music &amp\; DJ Sets: Dance the night away to performanc
 es by some of Atlanta's hottest DJs and live music acts. The lineup featur
 es a variety of genres\, ensuring there's something for everyone to enjoy.
 \n 	Art Exhibits: Explore a meticulously curated selection of artworks acr
 oss various media\, including paintings\, photography\, sculpture\, and mo
 re. Meet local artists and gain insight into their creative processes.\n 	
 Fashion Shows: Experience the latest trends and innovative designs from At
 lanta's fashion scene. Watch as designers showcase their unique styles on 
 the runway.\n 	Film Screenings: Enjoy thought-provoking and entertaining f
 ilms presented by local filmmakers. Discover new perspectives and enjoy th
 e art of storytelling.\n 	Poetry Performances: Listen to powerful spoken w
 ord performances that capture the essence of contemporary poetry and self-
 expression.\n 	Food &amp\; Drinks: Savor a diverse array of culinary delig
 hts from local food vendors. Indulge in delicious food and refreshing drin
 ks while mingling with fellow festival-goers.\n\nImmerse Yourself in a Mul
 timedia Extravaganza\n\nThe ARTS Atlanta First Fridays offers a truly imme
 rsive experience\, blending visual arts\, live performances\, and interact
 ive elements to create a rich cultural tapestry. Each event is thoughtfull
 y curated to provide a comprehensive celebration of creativity and express
 ion.\n\nJoin the Celebration\n\nDon't miss your chance to be part of this 
 vibrant festival. Whether you're looking to discover new artists\, enjoy f
 antastic music\, or simply have a great time with friends\, The ARTS Atlan
 ta First Fridays has it all. Mark your calendar for an evening of artistic
  exploration and community celebration!\n\nGET TICKETS\n
ATTACH;FMTTYPE=image/jpeg:https://breatheatlanta.us/wp-content/uploads/202
 4/07/The-ARTS-Atlanta-First-Fridays.jpg
CATEGORIES:Arts &amp; Performances,Mindfulness Events,Things To Do
LOCATION:Underground Atlanta\, 50 Upper Alabama Street Atlanta\, Atlanta\, 
 Georgia\, 30303\, GA \, United States
X-APPLE-STRUCTURED-LOCATION;VALUE=URI;X-ADDRESS=50 Upper Alabama Street Atl
 anta\, Atlanta\, Georgia\, 30303\, GA \, United States;X-APPLE-RADIUS=100;
 X-TITLE=Underground Atlanta:geo:0,0
END:VEVENT
BEGIN:VTIMEZONE
TZID:America/New_York
X-LIC-LOCATION:America/New_York
BEGIN:DAYLIGHT
DTSTART:20240310T030000
TZOFFSETFROM:-0500
TZOFFSETTO:-0400
TZNAME:EDT
END:DAYLIGHT
END:VTIMEZONE
END:VCALENDAR