BEGIN:VCALENDAR
VERSION:2.0
PRODID:-//wp-events-plugin.com//7.2.3.1//EN
TZID:America/New_York
X-WR-TIMEZONE:America/New_York
BEGIN:VEVENT
UID:140@breatheatlanta.us
DTSTART;TZID=America/New_York:20240502T180000
DTEND;TZID=America/New_York:20240502T210000
DTSTAMP:20240322T201204Z
URL:https://breatheatlanta.us/events/the-center-for-black-womens-wellness-
 2/
SUMMARY:Wellness and Pearls 2024- Benefiting the Center for Black Women's W
 ellness
DESCRIPTION:\nEmpower\, Celebrate\, Uplift: Wellness &amp\; Pearls 2024\nFo
 r 35 years\, Wellness &amp\; Pearls has championed the health and well-bei
 ng of Black women. This year's event promises to be even more powerful\, o
 ffering a unique blend of celebration\, education\, and community. Mark yo
 ur calendars for [Date of Event] and join us at The Gathering Spot ATL for
  an unforgettable evening.\nMore than just a fundraiser\, Wellness &amp\; 
 Pearls is a celebration of Black womanhood. It's a space where women can c
 onnect\, share experiences\, and uplift one another.\nHere's what awaits y
 ou:\n\n\n 	Empowering Atmosphere: Immerse yourself in a vibrant and suppor
 tive atmosphere where Black women are celebrated for their strength\, resi
 lience\, and unwavering spirit.\n 	Mingle with Atlanta's Health Champions:
  Network with influential figures dedicated to improving the health and we
 ll-being of Black communities.\n 	Give Back with Every Ticket: Feel good k
 nowing that all proceeds from the event directly benefit the Center for Bl
 ack Women's Wellness\, an organization committed to empowering Black women
  to prioritize their health.\n\nBeyond the Celebration:\nWellness &amp\; P
 earls recognizes the unique health challenges faced by Black women. This y
 ear's event will also feature:\n\n\n 	Informative Sessions: Gain valuable 
 insights and practical tools from health professionals who specialize in a
 ddressing the specific needs of Black women.\n 	Resource Fair: Connect wit
 h organizations and resources dedicated to supporting Black women's physic
 al and mental well-being.\n 	Inspiring Speakers: Be empowered by the stori
 es and experiences of Black women who are making a difference in their com
 munities.\n\nWellness &amp\; Pearls is more than just an evening\; it's a 
 movement. It's a call to action\, urging all of us to prioritize the healt
 h and well-being of Black women and their families.\nJoin us as we:\n\n\n 
 	Celebrate the strength and resilience of Black women.\n 	Invest in the he
 alth and well-being of future generations.\n 	Build a stronger\, healthier
  community for all.\n\nDon't miss this opportunity to be a part of somethi
 ng special! Get your tickets to Wellness &amp\; Pearls 2024 and be a part 
 of the change. Together\, we can create a brighter future for Black women 
 and their families.\n\n\n\n\nBUY TICKETS\n\n
ATTACH;FMTTYPE=image/jpeg:https://breatheatlanta.us/wp-content/uploads/202
 4/03/https___cdn.evbuc_.com_images_712269059_780112830_1_original.jpg
CATEGORIES:Wellness Events
LOCATION:The Gathering Spot ATL\, 384 Northyards Boulevard Northwest Atlant
 a\, GA 30313 United States\, Atlanta\, GA\,  30313\, GA\, United States
X-APPLE-STRUCTURED-LOCATION;VALUE=URI;X-ADDRESS=384 Northyards Boulevard No
 rthwest Atlanta\, GA 30313 United States\, Atlanta\, GA\,  30313\, GA\, Un
 ited States;X-APPLE-RADIUS=100;X-TITLE=The Gathering Spot ATL:geo:0,0
END:VEVENT
BEGIN:VTIMEZONE
TZID:America/New_York
X-LIC-LOCATION:America/New_York
BEGIN:DAYLIGHT
DTSTART:20240310T030000
TZOFFSETFROM:-0500
TZOFFSETTO:-0400
TZNAME:EDT
END:DAYLIGHT
END:VTIMEZONE
END:VCALENDAR