BEGIN:VCALENDAR
VERSION:2.0
PRODID:-//wp-events-plugin.com//7.2.3.1//EN
TZID:America/New_York
X-WR-TIMEZONE:America/New_York
BEGIN:VEVENT
UID:648@breatheatlanta.us
DTSTART;TZID=America/New_York:20241027T170000
DTEND;TZID=America/New_York:20241027T200000
DTSTAMP:20241018T081551Z
URL:https://breatheatlanta.us/events/the-faith-of-job/
SUMMARY:The Faith of Job
DESCRIPTION:Join us for an inspiring evening as "The Faith of Job" takes th
 e stage! This captivating musical brings to life the remarkable story of J
 ob\, showcasing his steadfast faith and resilience through a vibrant blend
  of music and drama.\n\nExperience the powerful narrative that illustrates
  Job's unwavering belief in the face of adversity. Through stunning perfor
 mances\, heartfelt melodies\, and compelling storytelling\, this productio
 n promises to resonate with audiences of all ages.\n\nDon’t miss this op
 portunity to witness a profound tale of faith and perseverance that contin
 ues to inspire generations. Come and be part of this extraordinary journey
  as we celebrate the timeless message of hope and devotion.\n\nGET TICKETS
 \n
ATTACH;FMTTYPE=image/jpeg:https://breatheatlanta.us/wp-content/uploads/202
 4/10/The-Faith-of-Job.jpg
CATEGORIES:Things To Do
LOCATION:City of South Fulton Southwest Arts Center\, 915 New Hope Road Sou
 thwest Atlanta\, Atlanta\, Georgia\, 30331\, GA\, United States
X-APPLE-STRUCTURED-LOCATION;VALUE=URI;X-ADDRESS=915 New Hope Road Southwest
  Atlanta\, Atlanta\, Georgia\, 30331\, GA\, United States;X-APPLE-RADIUS=1
 00;X-TITLE=City of South Fulton Southwest Arts Center:geo:0,0
END:VEVENT
BEGIN:VTIMEZONE
TZID:America/New_York
X-LIC-LOCATION:America/New_York
BEGIN:DAYLIGHT
DTSTART:20240310T030000
TZOFFSETFROM:-0500
TZOFFSETTO:-0400
TZNAME:EDT
END:DAYLIGHT
END:VTIMEZONE
END:VCALENDAR