BEGIN:VCALENDAR
VERSION:2.0
PRODID:-//wp-events-plugin.com//7.2.3.1//EN
TZID:America/New_York
X-WR-TIMEZONE:America/New_York
BEGIN:VEVENT
UID:128@breatheatlanta.us
DTSTART;TZID=America/New_York:20240410T190000
DTEND;TZID=America/New_York:20240430T210000
DTSTAMP:20240323T092651Z
URL:https://breatheatlanta.us/events/the-family-redemption-plan-mental-hea
 lth-revival-series/
SUMMARY:The Family Redemption Plan & Mental Health Revival Series
DESCRIPTION:\n\n\n\n\n\n\n\n\n\n\n\n\nA series of gatherings leveraging the
  transformative power of Christ to heal family relationships and foster me
 ntal wellness.\n\n\n\n\n\n\n\n\n\n\n\n\n\nEvent Information:\n\nEvent Name
 : The Family Redemption Plan &amp\; Mental Health Revival Series\n\nHosted
  By: West End SDA Church\n\nDate and Time: April 10\, 2024\, 7:00 PM EDT -
  April 30\, 2024\, 9:00 PM EDT.\n\nLocation: West End SDA Church\, 845 Law
 ton Street Southwest Atlanta\, GA 30310\, United States\n\nAbout This Even
 t:\n\nWelcome to The Family Redemption Plan Revival Series! West End SDA C
 hurch for a powerful event focused on healing and restoration. This series
  will offer valuable insights and practical tools to strengthen family bon
 ds and promote mental well-being with free counseling and mental health se
 minars! connect with others and embark on a journey towards redemption and
  revival. Join us every night starting on April 10\, 2024\, at 7:00 PM EDT
  until April 30\, 2024\, at 9:00 PM EDT\, except Thursday and Saturday nig
 hts.\n\nTicket Information:\n\nTicket Price: Free\n\nGET TICKETS\n\n\nEsse
 ntials for Bring:\n\nParticipants may bring a notebook and pen for taking 
 notes during seminars.\n\nParking Option:\n\nParking is available at the v
 enue.
ATTACH;FMTTYPE=image/jpeg:https://breatheatlanta.us/wp-content/uploads/202
 4/03/https-__cdn.evbuc_.com_images_722751599_216963584779_1_original.jpeg
LOCATION:West End SDA Church\, 845 Lawton Street Southwest Atlanta\, GA 303
 10 United States\, GA \,  United States\, 30310\, GA \, United States
X-APPLE-STRUCTURED-LOCATION;VALUE=URI;X-ADDRESS=845 Lawton Street Southwest
  Atlanta\, GA 30310 United States\, GA \,  United States\, 30310\, GA \, U
 nited States;X-APPLE-RADIUS=100;X-TITLE=West End SDA Church:geo:0,0
END:VEVENT
BEGIN:VTIMEZONE
TZID:America/New_York
X-LIC-LOCATION:America/New_York
BEGIN:DAYLIGHT
DTSTART:20240310T030000
TZOFFSETFROM:-0500
TZOFFSETTO:-0400
TZNAME:EDT
END:DAYLIGHT
END:VTIMEZONE
END:VCALENDAR