BEGIN:VCALENDAR
VERSION:2.0
PRODID:-//wp-events-plugin.com//7.2.3.1//EN
TZID:America/New_York
X-WR-TIMEZONE:America/New_York
BEGIN:VEVENT
UID:33@breatheatlanta.us
DTSTART;TZID=America/New_York:20240324T130000
DTEND;TZID=America/New_York:20240324T160000
DTSTAMP:20240322T090007Z
URL:https://breatheatlanta.us/events/the-flow-yoga-wellness-series/
SUMMARY:The FLOW Yoga & Wellness Series
DESCRIPTION:Event Information:\n\nImmerse in transformative monthly session
 s at Pittsburgh Yards featuring Yoga\, Breathwork\, and a Healing Sound Ba
 th.  A unique experience centered around well-being pillars with special 
 guest Kionna Meishon.\n\nDate and Time: Sunday\, March 24 · 1 - 4 pm EDT\
 n\nLocation: Pittsburgh Yards 352 University Avenue Southwest Atlanta\, GA
  30310 United States\n\nAbout this Event:\n\nEmbark on a 3-hour transforma
 tive journey each month at Pittsburgh Yards. Featuring Yoga\, Breathwork\,
  and a Healing Sound Bath led by a special guest focusing on our pillars: 
 Faith\, Love\, Oneness\, and Wellness.\n\nTicket Information:\n\n&nbsp\;\n
 \nGET TICKETS\n\nTicket Price: $30 Per Person\n\nRefund Policy: Contact th
 e organizer for refund requests. Eventbrite's fee is nonrefundable.\n\nWor
 kout Session Detail: Engage in unique Yoga\, Breathwork\, and Healing Soun
 d Bath sessions. This month's special guest\, Kionna Meishon\, owner of KM
  By Ki Meishon\, will share insights on clean self-care products and aroma
 therapy.\n\nEssential to Bring:\n\n 	Yoga Mat\n 	2 Yoga Blocks\n 	Personal
  Journal &amp\; Pen\n\nParking Option: Information on parking is not provi
 ded. Confirm parking details with Pittsburgh Yards.\n\nRejuvenation with Y
 oga\, Breathwork\, and a Healing Sound Bath at Pittsburgh Yards.  Our mon
 thly sessions with special guests focusing on well-being pillars. Tickets 
 at $30 per person.
ATTACH;FMTTYPE=image/jpeg:https://breatheatlanta.us/wp-content/uploads/202
 4/03/yoga-and-wellness.jpg
CATEGORIES:Wellness Events,Yoga Events
LOCATION:Pittsburgh Yards\, 352 University Avenue Southwest Atlanta\, GA 30
 310 United States\, Atlanta\, GA\, 30310\, GA\, United States
X-APPLE-STRUCTURED-LOCATION;VALUE=URI;X-ADDRESS=352 University Avenue South
 west Atlanta\, GA 30310 United States\, Atlanta\, GA\, 30310\, GA\, United
  States;X-APPLE-RADIUS=100;X-TITLE=Pittsburgh Yards:geo:0,0
END:VEVENT
BEGIN:VTIMEZONE
TZID:America/New_York
X-LIC-LOCATION:America/New_York
BEGIN:DAYLIGHT
DTSTART:20240310T030000
TZOFFSETFROM:-0500
TZOFFSETTO:-0400
TZNAME:EDT
END:DAYLIGHT
END:VTIMEZONE
END:VCALENDAR