BEGIN:VCALENDAR
VERSION:2.0
PRODID:-//wp-events-plugin.com//7.2.3.1//EN
TZID:America/New_York
X-WR-TIMEZONE:America/New_York
BEGIN:VEVENT
UID:425@breatheatlanta.us
DTSTART;TZID=America/New_York:20240914T100000
DTEND;TZID=America/New_York:20240914T140000
DTSTAMP:20240903T110122Z
URL:https://breatheatlanta.us/events/the-gathering/
SUMMARY:the GATHERING
DESCRIPTION:Join us for the inaugural "The Gathering" at the Morrow Center\
 , where we spotlight the vital role of food\, nutrition education\, and co
 llective wellness in strengthening our communities. This groundbreaking ev
 ent will shine a light on the impactful work of SnapEd Community Champions
  and the Clayton Collaborative\, featuring a live cooking demonstration an
 d a discussion on our Southern Roots series. This series will delve into t
 he intersections of advocacy\, health\, policy\, and the community’s nee
 ds—all crucial elements influencing our health and well-being.\n\n"The G
 athering" embodies the core principles of the Hand\, Heart\, and Soul Proj
 ect\, emphasizing commitment to people\, community\, and collective moveme
 nt\, while highlighting the importance of alignment in achieving our share
 d goals. The event underscores the belief that progress comes from collabo
 ration\, not isolation\, and aims to unite mission-driven individuals to w
 ork towards a common purpose.\n\nAttendees can expect a range of activitie
 s designed to promote health and wellness\, including:\n\n🌱 Explore Hea
 lth &amp\; Wellness Options: Discover diverse resources for improving your
  health\, from nutritious food options and fitness activities to holistic 
 wellness practices.\n\n👏 Celebrate Community Champions: Recognize and c
 elebrate the outstanding contributions of our Community Champions and Clay
 ton Collaborative members who are driving positive change in our community
 .\n\n📝 Learn About Action Plans: Gain valuable insights into the strate
 gies of our Champions as they share their approaches to fostering health\,
  wellness\, and community engagement in Clayton County.\n\n🎉 Exciting A
 ctivities Await: Enjoy a variety of engaging activities\, including an int
 eractive cooking class\, workshops on Food as Nutrition\, a yoga session\,
  informative classes\, vibrant vendor booths\, and a special music perform
 ance.\n\nAs an emerging organization\, we ask that you register in advance
  to help us plan effectively. We appreciate your cooperation in avoiding w
 alk-up registrations and updating your registration if your plans change. 
 Our dedicated team values organization and coordination to ensure a smooth
  and impactful event.\n\nDon’t miss this opportunity to connect with lik
 e-minded individuals\, learn from wellness experts\, and celebrate the vib
 rant spirit of Clayton County.\n\nGET TICKETS\n
ATTACH;FMTTYPE=image/jpeg:https://breatheatlanta.us/wp-content/uploads/202
 4/09/the-GATHERING.jpg
CATEGORIES:Mindfulness Events,Things To Do,Wellness Events
LOCATION:Morrow Center\, 1180 Southlake Circle Morrow\, Atlanta\, Georgia\,
  30260\, GA\, United States
X-APPLE-STRUCTURED-LOCATION;VALUE=URI;X-ADDRESS=1180 Southlake Circle Morro
 w\, Atlanta\, Georgia\, 30260\, GA\, United States;X-APPLE-RADIUS=100;X-TI
 TLE=Morrow Center:geo:0,0
END:VEVENT
BEGIN:VTIMEZONE
TZID:America/New_York
X-LIC-LOCATION:America/New_York
BEGIN:DAYLIGHT
DTSTART:20240310T030000
TZOFFSETFROM:-0500
TZOFFSETTO:-0400
TZNAME:EDT
END:DAYLIGHT
END:VTIMEZONE
END:VCALENDAR