BEGIN:VCALENDAR
VERSION:2.0
PRODID:-//wp-events-plugin.com//7.2.3.1//EN
TZID:America/New_York
X-WR-TIMEZONE:America/New_York
BEGIN:VEVENT
UID:569@breatheatlanta.us
DTSTART;TZID=America/New_York:20241102T130000
DTEND;TZID=America/New_York:20241102T160000
DTSTAMP:20241008T154628Z
URL:https://breatheatlanta.us/events/the-healing-sacred-scars-foundation-p
 resents-a-jazz-brunch/
SUMMARY:The Healing Sacred Scars Foundation Presents: A Jazz Brunch
DESCRIPTION:The Healing Sacred Scars Foundation proudly presents its inaugu
 ral fundraiser\, a delightful Jazz Brunch\, aimed at supporting its missio
 n of fostering mental health spaces for Melanated Mamas. This special even
 t invites attendees to enjoy a full brunch accompanied by refreshing mimos
 as and captivating live entertainment\, creating a vibrant atmosphere for 
 connection and celebration.\n\nParticipants will have the opportunity to l
 earn about the foundation's impactful work and its multigenerational appro
 ach to wellness\, emphasizing the importance of mental health within the c
 ommunity. This jazz brunch not only promises a delicious culinary experien
 ce but also serves as a platform for raising awareness and funds for cruci
 al mental health initiatives.\n\nJoin the foundation in this joyful gather
 ing\, where community spirit and the love of music come together to suppor
 t a noble cause. Don’t miss this chance to indulge in good food\, great 
 company\, and meaningful conversations while contributing to a vital missi
 on that uplifts and empowers Melanated Mamas. Secure your ticket today and
  be part of this transformative event!\n\nGET TICKETS\n
ATTACH;FMTTYPE=image/jpeg:https://breatheatlanta.us/wp-content/uploads/202
 4/10/The-Healing-Sacred-Scars-Foundation-Presents-A-Jazz-Brunch.jpeg
CATEGORIES:Wellness Events
LOCATION:Atlanta\, 2445 Church Rd SE Atlanta\, Los Angeles\, California\, 3
 0339\, GA\, United States
X-APPLE-STRUCTURED-LOCATION;VALUE=URI;X-ADDRESS=2445 Church Rd SE Atlanta\,
  Los Angeles\, California\, 30339\, GA\, United States;X-APPLE-RADIUS=100;
 X-TITLE=Atlanta:geo:0,0
END:VEVENT
BEGIN:VTIMEZONE
TZID:America/New_York
X-LIC-LOCATION:America/New_York
BEGIN:DAYLIGHT
DTSTART:20240310T030000
TZOFFSETFROM:-0500
TZOFFSETTO:-0400
TZNAME:EDT
END:DAYLIGHT
END:VTIMEZONE
END:VCALENDAR