BEGIN:VCALENDAR
VERSION:2.0
PRODID:-//wp-events-plugin.com//7.2.3.1//EN
TZID:America/New_York
X-WR-TIMEZONE:America/New_York
BEGIN:VEVENT
UID:574@breatheatlanta.us
DTSTART;TZID=America/New_York:20241103T140000
DTEND;TZID=America/New_York:20241103T153000
DTSTAMP:20241009T115754Z
URL:https://breatheatlanta.us/events/the-hip-lab-experimenting-with-moveme
 nt/
SUMMARY:The Hip Lab: Experimenting with Movement
DESCRIPTION:transformative workshop on November 3rd. This engaging Hip Mobi
 lity Workshop is perfect for anyone seeking to move with greater freedom a
 nd ease\, regardless of their experience level.\n\nIn this interactive ses
 sion\, attendees will:\n\n 	Explore Effective Techniques: Discover targete
 d stretches and exercises specifically designed to enhance hip range of mo
 tion\, helping participants feel lighter and more agile in both their yoga
  practice and everyday activities.\n 	Release Tension: Participants will e
 xperience a series of movements aimed at alleviating tightness and discomf
 ort\, promoting relaxation and ease of movement.\n 	Build Strength: Streng
 thening the hip muscles will provide better joint support\, improving stab
 ility and reducing the risk of injury.\n 	Connect with Community: This wor
 kshop offers a unique opportunity to engage with fellow participants\, fos
 tering new friendships while sweating and stretching together.\n\nThis is 
 a chance not to be missed for those looking to enhance their mobility and 
 overall well-being. Space is limited\, so early registration is encouraged
  to secure a spot in this enriching experience.\n\nDetails:\n\n 	Date: Nov
 ember 3rd\n 	Time: 2:00 PM - 3:30 PM\n 	Investment: $44\n\nGet ready to mo
 ve\, breathe\, and grow in a supportive environment led by Christina Scour
 las. Embrace the journey toward greater mobility and unleash your body's p
 otential!\n\nGET TICKETS\n
ATTACH;FMTTYPE=image/jpeg:https://breatheatlanta.us/wp-content/uploads/202
 4/10/The-Hip-Lab.jpeg
CATEGORIES:Wellness Events
LOCATION:Functional Yoga Medicine formerly Alkaline Wellness Center\, 686 P
 eachtree Industrial Boulevard #Suite 135 Suwanee\, #Suite 135 Suwanee\, Ca
 lifornia\, 30024\, CA\, United States
X-APPLE-STRUCTURED-LOCATION;VALUE=URI;X-ADDRESS=686 Peachtree Industrial Bo
 ulevard #Suite 135 Suwanee\, #Suite 135 Suwanee\, California\, 30024\, CA\
 , United States;X-APPLE-RADIUS=100;X-TITLE=Functional Yoga Medicine former
 ly Alkaline Wellness Center:geo:0,0
END:VEVENT
BEGIN:VTIMEZONE
TZID:America/New_York
X-LIC-LOCATION:America/New_York
BEGIN:STANDARD
DTSTART:20241103T010000
TZOFFSETFROM:-0400
TZOFFSETTO:-0500
TZNAME:EST
END:STANDARD
END:VTIMEZONE
END:VCALENDAR