BEGIN:VCALENDAR
VERSION:2.0
PRODID:-//wp-events-plugin.com//7.2.3.1//EN
TZID:America/New_York
X-WR-TIMEZONE:America/New_York
BEGIN:VEVENT
UID:465@breatheatlanta.us
DTSTART;TZID=America/New_York:20240926T163000
DTEND;TZID=America/New_York:20240926T203000
DTSTAMP:20240915T085915Z
URL:https://breatheatlanta.us/events/the-ideal-spa-mixer-open-house/
SUMMARY:The Ideal Spa Mixer + Open House
DESCRIPTION:Experience a delightful evening of relaxation and connection at
  the Ideal Spa Mixer &amp\; Open House. This complimentary event invites s
 pa enthusiasts and party hosts alike to gather and socialize in a laid-bac
 k atmosphere.\n\nAttendees will have the opportunity to mingle with fellow
  spa aficionados\, exchange ideas about hosting and attending spa parties\
 , and discover new ways to enhance their spa experiences. Whether you're a
 n avid spa-goer or simply curious about spa culture\, this open house is t
 he perfect setting to meet like-minded individuals and explore the world o
 f spa indulgence.\n\nWhat to Expect:\n\n 	Casual networking opportunities 
 with fellow spa lovers\n 	Insights into hosting and attending memorable sp
 a parties\n 	A relaxed environment to connect and share experiences\n\nJoi
 n us for an evening dedicated to celebrating the art of relaxation and com
 munity. Whether you're looking to make new friends\, gather inspiration fo
 r your next spa gathering\, or simply enjoy a night out\, the Ideal Spa Mi
 xer &amp\; Open House is the place to be. Don’t miss this chance to unwi
 nd and connect in a vibrant and welcoming setting.\n\nGET TICKETS\n
ATTACH;FMTTYPE=image/jpeg:https://breatheatlanta.us/wp-content/uploads/202
 4/09/The-Ideal-Spa-Mixer-Open-House.jpg
CATEGORIES:Things To Do
LOCATION:2797 Campbellton Rd SW Suite C2\, 2797 Campbellton Road Southwest 
 #suite c2\, Atlanta\, Georgia\, 30311\, GA\, United States
X-APPLE-STRUCTURED-LOCATION;VALUE=URI;X-ADDRESS=2797 Campbellton Road South
 west #suite c2\, Atlanta\, Georgia\, 30311\, GA\, United States;X-APPLE-RA
 DIUS=100;X-TITLE=2797 Campbellton Rd SW Suite C2:geo:0,0
END:VEVENT
BEGIN:VTIMEZONE
TZID:America/New_York
X-LIC-LOCATION:America/New_York
BEGIN:DAYLIGHT
DTSTART:20240310T030000
TZOFFSETFROM:-0500
TZOFFSETTO:-0400
TZNAME:EDT
END:DAYLIGHT
END:VTIMEZONE
END:VCALENDAR