BEGIN:VCALENDAR
VERSION:2.0
PRODID:-//wp-events-plugin.com//7.2.3.1//EN
TZID:America/New_York
X-WR-TIMEZONE:America/New_York
BEGIN:VEVENT
UID:362@breatheatlanta.us
DTSTART;TZID=America/New_York:20240816T120000
DTEND;TZID=America/New_York:20240818T200000
DTSTAMP:20240730T064921Z
URL:https://breatheatlanta.us/events/the-meet-up-experience/
SUMMARY:THE MEET UP EXPERIENCE
DESCRIPTION:The Meet Up Experience is more than just an event\; it’s a tr
 ansformative opportunity to connect with like-minded individuals who share
  your commitment to an abstinent lifestyle. While it might often feel like
  you’re on this path alone\, there’s an entire global community of abs
 tinent Christians ready to connect. This event is designed to bring everyo
 ne together\, fostering new friendships and potential romantic connections
  in a supportive and engaging environment.\n\nDay 1 | Friday | 12 PM - 10 
 PM: Connection and Community\n\nThe first day of The Meet Up Experience fo
 cuses on forging meaningful connections through dynamic and interactive se
 ssions. Attendees will engage in activities that encourage movement\, laug
 hter\, and heartfelt conversations\, creating a space where everyone can f
 eel comfortable and involved. Whether you're an extrovert or attending sol
 o\, the host will facilitate interactions to ensure you have a memorable a
 nd inclusive experience.\n\nDay 2 | Saturday | 3 PM - 8 PM: Socialize and 
 Explore\n\nOn the second day\, attendees will have the freedom to deepen c
 onnections made on Day 1 in a relaxed setting. The social event will take 
 place at a new venue with three distinct areas: The Rooftop Terrace for in
 timate conversations\, The Main Floor for dancing\, and The Cellar for gam
 es and casual fun. This versatile space offers various ways to continue en
 gaging with fellow attendees.\n\nDay 3 | Sunday: Worship and Fellowship\n\
 nThe final day provides an opportunity for spiritual enrichment. Attendees
  are invited to worship together at a local church (details will be sent v
 ia email) or join new friends at a church of their choice. After the servi
 ce\, everyone will gather for a communal lunch\, offering a final chance t
 o connect and reflect on the weekend’s experiences.\n\nFinancing Options
 : Accessible to All\n\nWe understand that financial concerns can be a barr
 ier\, so we offer flexible payment plans to ensure that everyone who wishe
 s to attend can do so. The Meet Up Experience is an answer to many prayers
  for community\, accountability\, and connection. Don’t let financial co
 nstraints hold you back from joining this unique opportunity to meet and c
 onnect with abstinent Christians from around the world.\n\nGET TICKETS\n
ATTACH;FMTTYPE=image/jpeg:https://breatheatlanta.us/wp-content/uploads/202
 4/07/THE-MEET-UP-EXPERIENCE.jpg
CATEGORIES:Mindfulness Events,Things To Do,Wellness Events
LOCATION:The M3 Center\, 2150 Newmarket Parkway SE #Suite 108 Marietta\, Al
 pharetta\, Georgia\, 30067\, GA \, United States
X-APPLE-STRUCTURED-LOCATION;VALUE=URI;X-ADDRESS=2150 Newmarket Parkway SE #
 Suite 108 Marietta\, Alpharetta\, Georgia\, 30067\, GA \, United States;X-
 APPLE-RADIUS=100;X-TITLE=The M3 Center:geo:0,0
END:VEVENT
BEGIN:VTIMEZONE
TZID:America/New_York
X-LIC-LOCATION:America/New_York
BEGIN:DAYLIGHT
DTSTART:20240310T030000
TZOFFSETFROM:-0500
TZOFFSETTO:-0400
TZNAME:EDT
END:DAYLIGHT
END:VTIMEZONE
END:VCALENDAR