BEGIN:VCALENDAR
VERSION:2.0
PRODID:-//wp-events-plugin.com//7.2.3.1//EN
TZID:America/New_York
X-WR-TIMEZONE:America/New_York
BEGIN:VEVENT
UID:538@breatheatlanta.us
DTSTART;TZID=America/New_York:20241030T190000
DTEND;TZID=America/New_York:20241030T193000
DTSTAMP:20241001T114328Z
URL:https://breatheatlanta.us/events/the-men-tal-health-divide-support-gro
 up/
SUMMARY:The MEN-Tal Health Divide Support Group
DESCRIPTION:The MEN-Tal Health Divide Support Group is an empowering online
  event designed to address the mental health needs of Black men\, offering
  a supportive and safe space for open discussions. This virtual group aims
  to bridge the gap in mental health support for Black men\, creating a com
 munity where participants can share experiences\, voice their struggles\, 
 and find encouragement from others who understand their unique challenges.
 \n\nStarting on Wednesday\, November 1\, 2023\, at 7:00 PM EDT\, this even
 t will provide a platform for meaningful conversations about mental health
 \, stress management\, self-care\, and coping mechanisms. Led by experts\,
  the group will focus on breaking the stigmas surrounding Black men’s me
 ntal well-being and providing tools to navigate the pressures they often f
 ace.\n\nParticipants will benefit from guided activities\, expert insights
 \, and peer support\, fostering a stronger sense of community and self-awa
 reness. This transformative experience is designed to empower attendees to
  take control of their mental health\, equipping them with the tools to im
 prove their well-being and build a solid support network.\n\nDon't miss th
 is opportunity to be part of a community dedicated to improving mental hea
 lth for Black men. Register today and take the first step toward positive 
 change and personal growth.\n\nGET TICKETS\n
ATTACH;FMTTYPE=image/jpeg:https://breatheatlanta.us/wp-content/uploads/202
 4/10/The-MEN-Tal-Health-Divide-Support-Group.jpg
CATEGORIES:Wellness Events
LOCATION:1700 Northside Drive Ste\, Atlanta \, Atlanta\, Georgia\, 30318\, 
 GA\, United States
X-APPLE-STRUCTURED-LOCATION;VALUE=URI;X-ADDRESS=Atlanta \, Atlanta\, Georgi
 a\, 30318\, GA\, United States;X-APPLE-RADIUS=100;X-TITLE=1700 Northside D
 rive Ste:geo:0,0
END:VEVENT
BEGIN:VTIMEZONE
TZID:America/New_York
X-LIC-LOCATION:America/New_York
BEGIN:DAYLIGHT
DTSTART:20240310T030000
TZOFFSETFROM:-0500
TZOFFSETTO:-0400
TZNAME:EDT
END:DAYLIGHT
END:VTIMEZONE
END:VCALENDAR