BEGIN:VCALENDAR
VERSION:2.0
PRODID:-//wp-events-plugin.com//7.2.3.1//EN
TZID:America/New_York
X-WR-TIMEZONE:America/New_York
BEGIN:VEVENT
UID:272@breatheatlanta.us
DTSTART;TZID=America/New_York:20240524T190000
DTEND;TZID=America/New_York:20240524T210000
DTSTAMP:20240513T111303Z
URL:https://breatheatlanta.us/events/the-metamorphosis-the-miracle/
SUMMARY:The Metamorphosis: The Miracle of Becoming Me Women's Conference
DESCRIPTION:\nHeal and Honor Under the Full Moon: A Candlelight Meditation 
 Vigil\nSeeking solace and connection after loss? Join a unique event that 
 blends peaceful meditation with a vibrant community atmosphere. This speci
 al outdoor candlelight vigil offers a powerful opportunity to cultivate in
 ner peace\, honor departed loved ones\, and experience a profound sense of
  healing.\nA Journey of Peace and Remembrance:\n\n\n 	Guided Meditation by
  Buddhist Monks: Venerable Michael and Venerable Nick\, esteemed Buddhist 
 monks\, will guide you through a meditative experience. This journey will 
 promote inner peace and allow you to connect with your inner self.\n 	Hono
 ring Loved Ones: Share the positive energy of meditation with your departe
 d loved ones. Place a picture (optional) on the memorial structure or simp
 ly write their name on a slip of paper to keep them close in spirit.\n 	Su
 pportive Community: Surround yourself with a circle of compassionate indiv
 iduals who understand the experience of grief and loss. Find comfort and c
 onnection in this supportive environment.\n 	Enchanted Evening: Immerse yo
 urself in the magic of a candlelit evening under the night sky. The serene
  atmosphere\, peaceful music\, and decorated trees create a truly special 
 setting for reflection and healing.\n\nA Gift for All:\n\n\n 	Free &amp\; 
 Open to All: This event is completely free and welcomes people of all ages
  and backgrounds. Join regardless of your religious beliefs or prior medit
 ation experience.\n 	Pay It Forward: Donations are gratefully accepted to 
 cover expenses and ensure the continuation of these free events. Consider 
 becoming a "Pay It Forward Patron" or contributing any amount you're comfo
 rtable with.\n\nEvent Schedule:\n\n\n 	7:30 PM - Arrival &amp\; Community:
  Arrive around 7:30 pm to socialize\, enjoy refreshments\, and find your s
 pot on the lawn. Peaceful music will set the mood for reflection. This tim
 e also allows you to place a picture or write your loved one's name on the
  memorial structure.\n 	8:00 PM - Candle Lighting &amp\; Meditation: Gathe
 r together as the monks lead a candle lighting ceremony. Embark on a guide
 d meditation to cultivate inner peace and loving-kindness. Share positive 
 energy with your loved ones and the world to promote global peace.\n 	9:00
  PM - Closing &amp\; Reflection: The evening concludes with parting words 
 from the monks. Light a floating lotus candle and place it in the water as
  a final gesture of remembrance. Feel free to linger and enjoy the peacefu
 l atmosphere before departing.\n\nOptional: Bringing a Picture\nIf you wis
 h to commemorate a loved one\, bring a framed photo or one you can place i
 n a provided frame stand. Writing their name on a slip of paper is also an
  option.\nShare the Experience:\nThis is a public event\, and photos will 
 be taken to document the event and promote future gatherings.\nJoin us for
  an evening unlike any other. Find tranquility\, honor your loved ones\, a
 nd experience the healing power of community under the glow of the moon.\n
 \n\n\nBUY TICKETS\n
ATTACH;FMTTYPE=image/jpeg:https://breatheatlanta.us/wp-content/uploads/202
 4/05/https___cdn.evbuc_.com_images_745704409_2337037544_1_original-1.jpeg
CATEGORIES:Wellness Events
LOCATION:Sonesta Select Atlanta Cumberland Galleria\, 3000 Cumberland Boule
 vard \, Southeast Atlanta\, Georgia\, 30339\, United States
X-APPLE-STRUCTURED-LOCATION;VALUE=URI;X-ADDRESS=3000 Cumberland Boulevard \
 , Southeast Atlanta\, Georgia\, 30339\, United States;X-APPLE-RADIUS=100;X
 -TITLE=Sonesta Select Atlanta Cumberland Galleria:geo:0,0
END:VEVENT
BEGIN:VTIMEZONE
TZID:America/New_York
X-LIC-LOCATION:America/New_York
BEGIN:DAYLIGHT
DTSTART:20240310T030000
TZOFFSETFROM:-0500
TZOFFSETTO:-0400
TZNAME:EDT
END:DAYLIGHT
END:VTIMEZONE
END:VCALENDAR