BEGIN:VCALENDAR
VERSION:2.0
PRODID:-//wp-events-plugin.com//7.2.3.1//EN
TZID:America/New_York
X-WR-TIMEZONE:America/New_York
BEGIN:VEVENT
UID:473@breatheatlanta.us
DTSTART;TZID=America/New_York:20240906T103000
DTEND;TZID=America/New_York:20240906T120000
DTSTAMP:20240923T170616Z
URL:https://breatheatlanta.us/events/the-mg-yoga-experience/
SUMMARY:The MG Yoga Experience
DESCRIPTION:The MG Yoga Experience invites participants to a revitalizing y
 oga session at Atlantucky Brewing\, where wellness meets relaxation in a v
 ibrant setting. Whether you're recovering from The Race or simply seeking 
 to unwind\, this event offers an ideal opportunity to stretch and rejuvena
 te. Designed for all skill levels\, from seasoned yogis to beginners\, MG 
 will lead participants through a thoughtfully crafted series of yoga poses
  aimed at boosting flexibility\, strength\, and mindfulness.\n\nAttendees 
 need not worry about bringing their own gear\, as yoga mats will be provid
 ed. It's recommended to wear comfortable\, flexible clothing that allows f
 or easy movement. After the session\, light refreshments and mimosas will 
 be available\, adding a touch of indulgence to the experience. For those w
 anting more\, Atlantucky Brewing features a full bar and restaurant where 
 attendees can order additional food and drinks.\n\nThis unique blend of yo
 ga\, relaxation\, and community makes The MG Yoga Experience a must-attend
  event. Whether you're there for the yoga or the camaraderie\, it’s a pe
 rfect way to nourish both body and mind. Mark your calendars and get ready
  to immerse yourself in this restorative journey at Atlantucky Brewing. Na
 maste!\n\nGET TICKETS\n
ATTACH;FMTTYPE=image/jpeg:https://breatheatlanta.us/wp-content/uploads/202
 4/09/The-MG-Yoga-Experience.jpg
CATEGORIES:Yoga Events
LOCATION:Atlantucky Brewing\, 170 Northside Drive Southwest\, #suite 96 Atl
 anta\, Georgia\, 30313\, GA\, United States
X-APPLE-STRUCTURED-LOCATION;VALUE=URI;X-ADDRESS=170 Northside Drive Southwe
 st\, #suite 96 Atlanta\, Georgia\, 30313\, GA\, United States;X-APPLE-RADI
 US=100;X-TITLE=Atlantucky Brewing:geo:0,0
END:VEVENT
BEGIN:VTIMEZONE
TZID:America/New_York
X-LIC-LOCATION:America/New_York
BEGIN:DAYLIGHT
DTSTART:20240310T030000
TZOFFSETFROM:-0500
TZOFFSETTO:-0400
TZNAME:EDT
END:DAYLIGHT
END:VTIMEZONE
END:VCALENDAR