BEGIN:VCALENDAR
VERSION:2.0
PRODID:-//wp-events-plugin.com//7.2.3.1//EN
TZID:America/New_York
X-WR-TIMEZONE:America/New_York
BEGIN:VEVENT
UID:701@breatheatlanta.us
DTSTART;TZID=America/New_York:20241116T150000
DTEND;TZID=America/New_York:20241116T180000
DTSTAMP:20241024T173951Z
URL:https://breatheatlanta.us/events/the-mindful-moments-market-a-holistic
 -pop-up-experience/
SUMMARY:The Mindful Moments Market: A Holistic Pop-Up Experience
DESCRIPTION:Step into a world of wellness and self-care at The Mindful Mome
 nts Market\, a holistic pop-up designed to rejuvenate your body\, mind\, a
 nd spirit. This unique event offers a curated selection of health and well
 ness services\, products\, and experiences—all in one serene space. Whet
 her you’re looking to unwind\, explore holistic therapies\, or simply in
 dulge in self-care\, this is the perfect opportunity to prioritize your we
 ll-being.\n\nEvent Details:\n\n 	Date: November 16\, 2024\n 	Time: 3:00 PM
  – 6:00 PM\n 	Location: Studio 270 | 5000 Austell Powder Springs Road\, 
 SW Suite 270\, Austell\, GA 30106\n\nWhat’s Happening:\n\nDiscover a var
 iety of offerings tailored to promote relaxation\, healing\, and mindfulne
 ss:\n\n 	Mini Facials by a Holistic Esthetician: Enjoy a 20-minute facial 
 treatment designed to cleanse\, nourish\, and refresh your skin using natu
 ral\, plant-based products.\n 	Massage Therapy: Onsite massage sessions wi
 ll help melt away tension and restore balance to your body.\n 	Sound Heali
 ng &amp\; Reiki Cleanse: Immerse yourself in sound bowl therapy and energy
  healing to align your chakras and cleanse your energy field.\n 	Superfood
 s &amp\; Wellness Products: Explore a selection of superfoods and holistic
  products that support overall health and well-being.\n 	Vegan Chef: Savor
  delicious plant-based cuisine prepared by a talented vegan chef\, perfect
  for fueling your body with nourishing\, clean foods.\n 	And More!\n\nWhet
 her you're new to holistic practices or experienced in wellness\, this eve
 nt offers something for everyone\, including opportunities to explore new 
 therapies and connect with like-minded individuals in the community.\n\nVI
 P Experience (Optional):\n\nFor those seeking an elevated experience\, we 
 offer VIP packages for just $25. This includes access to a special goodie 
 bag filled with wellness treasures such as plant-based skincare\, herbal t
 eas\, mini journals\, candles\, and more. VIP guests will also enjoy prior
 ity access to services\, ensuring a smooth and enhanced experience through
 out the day. The VIP package can be purchased here.\n\nEntry is FREE\, but
  spaces are limited! Reserve your spot now to ensure you don’t miss this
  enriching day dedicated to holistic health and well-being.\n\nJoin us at 
 The Mindful Moments Market and experience a day of self-care\, healing\, a
 nd mindful moments that nourish your soul and body. Whether you’re looki
 ng to relax\, explore new wellness practices\, or simply take time for you
 rself\, this event is the perfect way to unwind and connect with your inne
 r peace.\n\nGET TICKETS\n
ATTACH;FMTTYPE=image/jpeg:https://breatheatlanta.us/wp-content/uploads/202
 4/10/The-Mindful-Moments-Market-A-Holistic-Pop-Up-Experience.jpg
CATEGORIES:Wellness Events
LOCATION:Studio 270\, 5000 Austell Powder Springs Road Southwest Suite 270 
 Austell\, Atlanta\, Georgia\, 30106\, GA\, United States
X-APPLE-STRUCTURED-LOCATION;VALUE=URI;X-ADDRESS=5000 Austell Powder Springs
  Road Southwest Suite 270 Austell\, Atlanta\, Georgia\, 30106\, GA\, Unite
 d States;X-APPLE-RADIUS=100;X-TITLE=Studio 270:geo:0,0
END:VEVENT
BEGIN:VTIMEZONE
TZID:America/New_York
X-LIC-LOCATION:America/New_York
BEGIN:STANDARD
DTSTART:20241103T010000
TZOFFSETFROM:-0400
TZOFFSETTO:-0500
TZNAME:EST
END:STANDARD
END:VTIMEZONE
END:VCALENDAR