BEGIN:VCALENDAR
VERSION:2.0
PRODID:-//wp-events-plugin.com//7.2.3.1//EN
TZID:America/New_York
X-WR-TIMEZONE:America/New_York
BEGIN:VEVENT
UID:659@breatheatlanta.us
DTSTART;TZID=America/New_York;VALUE=DATE:20241025
DTEND;TZID=America/New_York;VALUE=DATE:20241026
DTSTAMP:20241018T092454Z
URL:https://breatheatlanta.us/events/the-oceanaire-atlanta-sushi-shakers-c
 ocktail-event/
SUMMARY:The Oceanaire Atlanta - Sushi & Shakers Cocktail Event
DESCRIPTION:On October 25th\, join The Oceanaire Atlanta for a unique culin
 ary experience that combines the artistry of handcrafted sushi with expert
 ly curated cocktails. This exclusive event promises an evening filled with
  flavor and creativity\, starting at 6:30 PM. For just $99 per guest (plus
  tax\, with gratuity included)\, attendees can indulge in a feast for the 
 senses.\nCocktail Selections:\nThe cocktail menu features an array of deli
 ghtful concoctions\, each designed to perfectly complement the sushi offer
 ings:\n\n 	Shell Shooter: A vibrant mix of Pantalones Tequila\, Clamato\, 
 and an Oceanaire Pearl Oyster for a savory kick.\n 	Sparkling Margarita: A
  refreshing blend of Pantalones Organic Tequila\, Betty Buzz Sparkling Lem
 on\, and Lime.\n 	Pink Pants: A sweet and fruity combination of Pantalones
  Blanco and Watermelon Juice.\n 	Birthday Suit: A festive concoction featu
 ring Pantalones Reposado\, Grand Marnier\, and Fassionola Syrup.\n 	Fancy 
 Pants Martini: A classic mix of Pantalones Blanco\, Lime\, and Olives for 
 a sophisticated touch.\n\nSushi Menu:\nThe evening's sushi menu boasts an 
 enticing selection of rolls and dishes\, including:\n\n 	Spicy Crab &amp\;
  Lime Roll: Featuring spicy crab\, tuna\, avocado\, jicama\, Tajin\, chipo
 tle aioli\, lime pearls\, and cilantro.\n 	Hamachi Chirashi Bowl: A deligh
 tful bowl of Leche de Tigre\, chile\, sushi rice\, and crunchy plantain ch
 ips.\n 	Tuna Tostada: Topped with salsa macha\, avocado\, cucumber\, and a
  drizzle of soy caramel.\n 	Charred Octopus: Served with crispy nopales\, 
 chorizo\, tomatillo salsa verde\, and roasted potatoes.\n 	Wagyu Short Rib
  Birria Ramen: Accompanied by shredded cabbage\, jalapeño\, cilantro\, an
 d a soft egg.\n 	Churros: Sweet treats served with salted caramel and choc
 olate ganache for dessert.\n\nSeating is limited\, and all purchases are f
 inal with no refunds. Don’t miss out on this exquisite evening of sushi 
 and cocktails\; reserve your spot today for an unforgettable night at The 
 Oceanaire Atlanta!\n\nGET TICKETS\n
ATTACH;FMTTYPE=image/jpeg:https://breatheatlanta.us/wp-content/uploads/202
 4/10/The-Oceanaire-Atlanta-Sushi-Shakers-Cocktail-Event.jpg
CATEGORIES:Food &amp; Drink Events,Things To Do
LOCATION:The Oceanaire Seafood Room - Atlanta\, 1100 Peachtree Street\, Atl
 anta\, Georgia\, 30309\,  GA\, United States
X-APPLE-STRUCTURED-LOCATION;VALUE=URI;X-ADDRESS=1100 Peachtree Street\, Atl
 anta\, Georgia\, 30309\,  GA\, United States;X-APPLE-RADIUS=100;X-TITLE=Th
 e Oceanaire Seafood Room - Atlanta:geo:0,0
END:VEVENT
BEGIN:VTIMEZONE
TZID:America/New_York
X-LIC-LOCATION:America/New_York
BEGIN:DAYLIGHT
DTSTART:20240310T030000
TZOFFSETFROM:-0500
TZOFFSETTO:-0400
TZNAME:EDT
END:DAYLIGHT
END:VTIMEZONE
END:VCALENDAR