BEGIN:VCALENDAR
VERSION:2.0
PRODID:-//wp-events-plugin.com//7.2.3.1//EN
TZID:America/New_York
X-WR-TIMEZONE:America/New_York
BEGIN:VEVENT
UID:189@breatheatlanta.us
DTSTART;TZID=America/New_York:20240411T120000
DTEND;TZID=America/New_York:20240411T143000
DTSTAMP:20240404T103535Z
URL:https://breatheatlanta.us/events/the-real-mental-health-foundation-tou
 r-stop-in-atlanta/
SUMMARY:THE REAL Mental Health Foundation - Tour Stop in Atlanta!!
DESCRIPTION:An exceptional and uplifting event in Atlanta\, GA\, featuring 
 Shawn Lesser\, the visionary founder of THE REAL Mental Health Foundation.
 \n\nEvent Information:\n\nEvent Name: THE REAL Mental Health Foundation - 
 Tour Stop in Atlanta!!\n\nHost: THE REAL Mental Health Foundation\n\nDate 
 and Time: Thursday\, April 11 • 12:00 PM - 2:30 PM EDT\n\nLocation: Le C
 olonial Atlanta 3035 Peachtree Road Northeast Atlanta\, GA 30305 United St
 ates\n\nAbout this Event:  A unique and inspiring event featuring Shawn L
 esser\, founder of THE REAL Mental Health Foundation\, as part of THE REAL
  Mental Health Speaking Tour in Atlanta\, Georgia. Shawn's dynamic present
 ation will offer insights from his personal journey through anxiety and de
 pression\, highlighting his path to recovery and the mission of THE REAL M
 ental Health Foundation. This sit-down event includes complimentary hors d
 'oeuvres during the talk\, providing an engaging and supportive atmosphere
  for attendees. Donations are optional for this must-attend event for anyo
 ne interested in mental health advocacy.\n\nTicket Information:\n\nDonatio
 n: $0.00\n\nSales end on April 11\, 2024\n\nFees and taxes will be calcula
 ted before placing your order.\n\nGET TICKETS\n\nExperience an inspiring a
 nd enlightening event with THE REAL Mental Health Foundation as Shawn Less
 er shares his compelling journey and advocacy for mental health. \, connec
 t with a supportive community\, and contribute to the conversation surroun
 ding mental well-being.
ATTACH;FMTTYPE=image/jpeg:https://breatheatlanta.us/wp-content/uploads/202
 4/03/78987979897897.jpg
CATEGORIES:Wellness Events
LOCATION:Le Colonial Atlanta\, 3035 Peachtree Road \, Northeast Atlanta\, \
 , United States\, 30305 \, GA \, United States
X-APPLE-STRUCTURED-LOCATION;VALUE=URI;X-ADDRESS=3035 Peachtree Road \, Nort
 heast Atlanta\, \, United States\, 30305 \, GA \, United States;X-APPLE-RA
 DIUS=100;X-TITLE=Le Colonial Atlanta:geo:0,0
END:VEVENT
BEGIN:VTIMEZONE
TZID:America/New_York
X-LIC-LOCATION:America/New_York
BEGIN:DAYLIGHT
DTSTART:20240310T030000
TZOFFSETFROM:-0500
TZOFFSETTO:-0400
TZNAME:EDT
END:DAYLIGHT
END:VTIMEZONE
END:VCALENDAR