BEGIN:VCALENDAR
VERSION:2.0
PRODID:-//wp-events-plugin.com//7.2.3.1//EN
TZID:America/New_York
X-WR-TIMEZONE:America/New_York
BEGIN:VEVENT
UID:228@breatheatlanta.us
DTSTART;TZID=America/New_York:20240504T130000
DTEND;TZID=America/New_York:20240504T160000
DTSTAMP:20240407T113528Z
URL:https://breatheatlanta.us/events/the-reset-fest/
SUMMARY:The Reset Fest
DESCRIPTION:\nHit the Refresh Button: Your Mental Wellness Journey Starts H
 ere\nFeeling stuck in a rut? Do negative patterns keep resurfacing\, hinde
 ring your growth and well-being? You're not alone. Taking a mental health 
 reset is a powerful tool for cultivating a more fulfilling and balanced li
 fe.\nThink of it as hitting the refresh button on your mind and emotions. 
 A mental health reset allows you to:\n\n\n 	Unlearn Negative Patterns: We 
 all develop patterns of behavior\, but sometimes these patterns can be det
 rimental. A reset helps you identify these patterns and develop healthier 
 strategies for navigating life's challenges.\n 	Undo Harmful Habits: Negat
 ive habits can drain your energy and hold you back. A reset equips you wit
 h the tools to identify and break free from these habits\, paving the way 
 for a more positive lifestyle.\n 	Embrace Personal Growth: When you're stu
 ck in a cycle of negativity\, it's hard to make progress. A reset creates 
 a fertile ground for personal growth\, allowing you to cultivate new skill
 s\, explore opportunities\, and reach your full potential.\n\nSo\, how do 
 you embark on this transformative journey? Here are some practical steps t
 o get you started:\n\n\n 	Self-Reflection: Take time for introspection. Jo
 urnal\, meditate\, or simply connect with yourself in a quiet space. Ident
 ify areas in your life that bring you down\, negative patterns you cling t
 o\, or habits that hinder your well-being.\n 	Declutter Your Mind: Just li
 ke a cluttered room can feel overwhelming\, a cluttered mind can be equall
 y draining. Practice mindfulness exercises\, engage in activities that pro
 mote relaxation\, and declutter your digital space to create a calmer inte
 rnal environment.\n 	Set Boundaries: It's okay to say no. Learning to set 
 healthy boundaries is crucial for protecting your mental well-being. Ident
 ify situations that drain your energy and establish clear boundaries to sa
 feguard your peace of mind.\n 	Create New Habits: Replace negative habits 
 with positive ones. Build routines that promote self-care\, such as spendi
 ng time in nature\, exercising regularly\, or engaging in activities you e
 njoy.\n 	Seek Support: Don't be afraid to reach out for help. Talk to a th
 erapist\, counselor\, or trusted friend. Connecting with a supportive comm
 unity can be a powerful tool on your road to mental well-being.\n\nRemembe
 r\, a mental health reset is a journey\, not a destination. There will be 
 ups and downs\, but by committing to self-care\, mindfulness\, and positiv
 e habits\, you can cultivate a more balanced and fulfilling life.\nTake ch
 arge of your well-being! Hit the refresh button on your mental health and 
 embark on a transformative journey towards self-discovery and personal gro
 wth.\n\n\n\nBUY TICKETS\n
ATTACH;FMTTYPE=image/jpeg:https://breatheatlanta.us/wp-content/uploads/202
 4/04/https___cdn.evbuc_.com_images_732509279_443836708136_1_original.jpeg
CATEGORIES:Wellness Events
LOCATION:John Wesley Dobbs\, 75 John Wesley Dobbs Avenue\, Northeast Atlant
 a\, Georgia\, 30303\, United States
X-APPLE-STRUCTURED-LOCATION;VALUE=URI;X-ADDRESS=75 John Wesley Dobbs Avenue
 \, Northeast Atlanta\, Georgia\, 30303\, United States;X-APPLE-RADIUS=100;
 X-TITLE=John Wesley Dobbs:geo:0,0
END:VEVENT
BEGIN:VTIMEZONE
TZID:America/New_York
X-LIC-LOCATION:America/New_York
BEGIN:DAYLIGHT
DTSTART:20240310T030000
TZOFFSETFROM:-0500
TZOFFSETTO:-0400
TZNAME:EDT
END:DAYLIGHT
END:VTIMEZONE
END:VCALENDAR