BEGIN:VCALENDAR
VERSION:2.0
PRODID:-//wp-events-plugin.com//7.2.3.1//EN
TZID:America/New_York
X-WR-TIMEZONE:America/New_York
BEGIN:VEVENT
UID:300@breatheatlanta.us
DTSTART;TZID=America/New_York:20240601T193000
DTEND;TZID=America/New_York:20240601T213000
DTSTAMP:20240526T172806Z
URL:https://breatheatlanta.us/events/the-sleeping-beauty/
SUMMARY:The Sleeping Beauty
DESCRIPTION:Join the talented students and pre-professional company of the 
 Giselle DiBlasi School of Ballet for a captivating performance of the full
 -length ballet\, The Sleeping Beauty. This enchanting production tells the
  timeless tale of Princess Aurora and the curse placed upon her by the wic
 ked Fairy Carabosse\, who was scorned after being excluded from Aurora's c
 hristening.\n\nIn a stroke of fortune\, the benevolent Lilac Fairy interve
 nes\, ensuring that Aurora's fate is not sealed by death but by a deep sle
 ep\, from which she will awaken only by a kiss from her true love\, Prince
  Désiré.\n\nWitness this magical story unfold on stage\, brought to life
  by the grace and skill of the next generation of ballet stars.\n\nGET TIC
 KETS\n
ATTACH;FMTTYPE=image/jpeg:https://breatheatlanta.us/wp-content/uploads/202
 4/05/The-Sleeping-Beauty.jpg
CATEGORIES:Mindfulness Events
LOCATION:Henry Performing Arts Center - Fairview\, 544 Fairview Road Stockb
 ridge\, Atlanta\, Georgia\, 30253\, GA\, United States
X-APPLE-STRUCTURED-LOCATION;VALUE=URI;X-ADDRESS=544 Fairview Road Stockbrid
 ge\, Atlanta\, Georgia\, 30253\, GA\, United States;X-APPLE-RADIUS=100;X-T
 ITLE=Henry Performing Arts Center - Fairview:geo:0,0
END:VEVENT
BEGIN:VTIMEZONE
TZID:America/New_York
X-LIC-LOCATION:America/New_York
BEGIN:DAYLIGHT
DTSTART:20240310T030000
TZOFFSETFROM:-0500
TZOFFSETTO:-0400
TZNAME:EDT
END:DAYLIGHT
END:VTIMEZONE
END:VCALENDAR