BEGIN:VCALENDAR
VERSION:2.0
PRODID:-//wp-events-plugin.com//7.2.3.1//EN
TZID:America/New_York
X-WR-TIMEZONE:America/New_York
BEGIN:VEVENT
UID:443@breatheatlanta.us
DTSTART;TZID=America/New_York:20240907T150000
DTEND;TZID=America/New_York:20240907T163000
DTSTAMP:20240904T145121Z
URL:https://breatheatlanta.us/events/the-sound-of-silence-meditation-exper
 ience/
SUMMARY:The Sound of Silence Meditation Experience
DESCRIPTION:Embark on a transformative journey with The Sound of Silence\, 
 a meditation experience designed to help you reconnect with your inner sel
 f through a blend of gentle body tapping\, vocal activation\, and deep\, r
 estorative silence. This unique practice invites you to relax\, rejuvenate
 \, and cultivate mindfulness in a serene and supportive environment.\n\nTh
 e experience begins with a gentle tapping of the body\, releasing tension 
 and awakening your senses. From there\, you will explore vocal activation 
 through vowel sounds\, allowing your voice to resonate and flow freely. Th
 is exploration serves as a prelude to the final phase of the meditation: c
 omplete\, tranquil silence. As you transition into stillness\, the sounds 
 you’ve created will dissipate\, leaving you in a space of profound inner
  peace.\n\nThe Sound of Silence combines physical\, vocal\, and mental ele
 ments to offer a holistic approach to meditation\, making it accessible an
 d beneficial for individuals of all experience levels. Whether you are new
  to meditation or a seasoned practitioner\, this class offers a comprehens
 ive method for deepening your practice.\n\nPotential Benefits:\n\n 	Stress
  and Anxiety Relief: Experience a significant reduction in stress and anxi
 ety through mindful tapping and vocal release.\n 	Increased Mindfulness an
 d Focus: Cultivate a heightened sense of awareness and concentration.\n 	I
 mproved Sleep Quality: Enhance your sleep by calming the mind and body.\n 
 	Enhanced Self-Awareness: Develop a deeper connection with your thoughts\,
  emotions\, and physical sensations.\n 	Deeper Connection to Body and Brea
 th: Foster a more profound relationship with your breath and bodily sensat
 ions.\n\nJoin facilitators Manal Soudani and Alaja Alizea for this immersi
 ve opportunity to pause\, breathe\, and discover inner harmony through the
  sound of silence. Whether you are seeking stress relief\, greater mindful
 ness\, or a deeper connection with yourself\, this meditation experience o
 ffers a pathway to peace and self-discovery.\n\nGET TICKETS\n
ATTACH;FMTTYPE=image/jpeg:https://breatheatlanta.us/wp-content/uploads/202
 4/09/The-sound-of-Silence.jpg
CATEGORIES:Mindfulness Events,Things To Do,Wellness Events,Yoga Events
LOCATION:Aum Studio for Wellness\, 11550 Webb Bridge Way #Suite B2 Alpharet
 ta\, GA 30005 United States\, GA \, United States\, 30005 \,  GA \, United
  States
X-APPLE-STRUCTURED-LOCATION;VALUE=URI;X-ADDRESS=11550 Webb Bridge Way #Suit
 e B2 Alpharetta\, GA 30005 United States\, GA \, United States\, 30005 \, 
  GA \, United States;X-APPLE-RADIUS=100;X-TITLE=Aum Studio for Wellness:ge
 o:0,0
END:VEVENT
BEGIN:VTIMEZONE
TZID:America/New_York
X-LIC-LOCATION:America/New_York
BEGIN:DAYLIGHT
DTSTART:20240310T030000
TZOFFSETFROM:-0500
TZOFFSETTO:-0400
TZNAME:EDT
END:DAYLIGHT
END:VTIMEZONE
END:VCALENDAR