BEGIN:VCALENDAR
VERSION:2.0
PRODID:-//wp-events-plugin.com//7.2.3.1//EN
TZID:America/New_York
X-WR-TIMEZONE:America/New_York
BEGIN:VEVENT
UID:339@breatheatlanta.us
DTSTART;TZID=America/New_York:20240720T070000
DTEND;TZID=America/New_York:20240720T120000
DTSTAMP:20240909T102039Z
URL:https://breatheatlanta.us/events/the-spectrum-charity-5k-walk-run-char
 ity-5k-walk/
SUMMARY:The Spectrum : Charity 5K Walk & Run Charity 5K Walk
DESCRIPTION:Step out of your routine and join us for The Spectrum: Charity 
 5K Walk &amp\; Run\, a spirited event with a purpose. Our organizers are d
 edicated to making this event more than just a run—it's an unforgettable
  experience filled with passion\, purpose\, and community spirit.\n\nWhat 
 to Expect:\n\nRegistering for our 5K Run means you're signing up for much 
 more than just a race. It's an opportunity to make a positive impact\, rai
 se awareness\, and show support for important causes in our communities.\n
 \nGoals:\n\nThe primary goal of The Spectrum is to have fun while shedding
  light on eight important causes that impact our neighborhoods every day. 
 We aim to raise awareness and show support for these causes while bringing
  our community together in a spirit of unity and compassion.\n\nHighlights
 :\n\n 	Community Spirit: Join fellow participants in a spirit of unity and
  solidarity as we come together for a common cause.\n 	Active Participatio
 n: Engage in a healthy and active event that promotes physical fitness and
  well-being.\n 	Supporting Causes: Show your support for eight important c
 auses that affect our communities and help make a difference.\n\nWhy Atten
 d:\n\n 	Fun and Fitness: Enjoy a fun-filled and active event while support
 ing meaningful causes.\n 	Awareness Building: Learn more about important i
 ssues affecting our neighborhoods and contribute to raising awareness.\n 	
 Community Engagement: Connect with like-minded individuals and make a posi
 tive impact in your community.\n\nJoin Us:\n\nDon't miss this opportunity 
 to be part of something special. Lace up your shoes\, join the movement\, 
 and make a difference at The Spectrum: Charity 5K Walk &amp\; Run!\n\nGET 
 TICKETS\n
ATTACH;FMTTYPE=image/jpeg:https://breatheatlanta.us/wp-content/uploads/202
 4/06/The-Spectrum-Charity-5K-Walk-Run.jpg
CATEGORIES:Sports &amp; Fitness Events,Wellness Events
LOCATION:Wade Walker Park\, 5585 Rockbridge Road Southwest Stone Mountain\,
  Atlanta\, Georgia\, 30088\, GA \, United States
X-APPLE-STRUCTURED-LOCATION;VALUE=URI;X-ADDRESS=5585 Rockbridge Road Southw
 est Stone Mountain\, Atlanta\, Georgia\, 30088\, GA \, United States;X-APP
 LE-RADIUS=100;X-TITLE=Wade Walker Park:geo:0,0
END:VEVENT
BEGIN:VTIMEZONE
TZID:America/New_York
X-LIC-LOCATION:America/New_York
BEGIN:DAYLIGHT
DTSTART:20240310T030000
TZOFFSETFROM:-0500
TZOFFSETTO:-0400
TZNAME:EDT
END:DAYLIGHT
END:VTIMEZONE
END:VCALENDAR