BEGIN:VCALENDAR
VERSION:2.0
PRODID:-//wp-events-plugin.com//7.2.3.1//EN
TZID:America/New_York
X-WR-TIMEZONE:America/New_York
BEGIN:VEVENT
UID:302@breatheatlanta.us
DTSTART;TZID=America/New_York:20240629T100000
DTEND;TZID=America/New_York:20240630T030000
DTSTAMP:20240526T180453Z
URL:https://breatheatlanta.us/events/the-summer-2024-gaga-ball/
SUMMARY:The Summer 2024 Gaga Ball
DESCRIPTION:Prepare for an unforgettable evening of music and fashion inspi
 red by the one and only Mother Monster herself! The Summer 2024 Gaga Ball 
 is set to be a spectacular event where Kimber will be spinning all your fa
 vorite Lady Gaga hits. From chart-topping singles to B-sides\, deep cuts\,
  and remixes—get ready to Just Dance the night away with all the Gaga yo
 u can handle!\n\nShow off your most fabulous Gaga-inspired looks for a cha
 nce to win an amazing Gaga prize. Remember\, there can be 100 people in th
 e room who don't believe in you\, but if just one judge loves your look\, 
 you could be the star of the night.\n\nJoin us for a celebration of music\
 , fashion\, and the fearless spirit of Lady Gaga. We can't wait to see wha
 t incredible styles you'll bring because\, after all\, you were all born s
 uperstars.\n\nGET TICKETS\n
ATTACH;FMTTYPE=image/jpeg:https://breatheatlanta.us/wp-content/uploads/202
 4/05/The-Summer-2024-Gaga-Ball.jpg
LOCATION:The Basement\, 1245 Glenwood Avenue Southeast Atlanta\, Atlanta\, 
 Georgia\, 30316\, GA\, United States
X-APPLE-STRUCTURED-LOCATION;VALUE=URI;X-ADDRESS=1245 Glenwood Avenue Southe
 ast Atlanta\, Atlanta\, Georgia\, 30316\, GA\, United States;X-APPLE-RADIU
 S=100;X-TITLE=The Basement:geo:0,0
END:VEVENT
BEGIN:VTIMEZONE
TZID:America/New_York
X-LIC-LOCATION:America/New_York
BEGIN:DAYLIGHT
DTSTART:20240310T030000
TZOFFSETFROM:-0500
TZOFFSETTO:-0400
TZNAME:EDT
END:DAYLIGHT
END:VTIMEZONE
END:VCALENDAR