BEGIN:VCALENDAR
VERSION:2.0
PRODID:-//wp-events-plugin.com//7.2.3.1//EN
TZID:America/New_York
X-WR-TIMEZONE:America/New_York
BEGIN:VEVENT
UID:620@breatheatlanta.us
DTSTART;TZID=America/New_York:20241109T180000
DTEND;TZID=America/New_York:20241109T210000
DTSTAMP:20241013T134643Z
URL:https://breatheatlanta.us/events/the-ultimate-mock-spa-day/
SUMMARY:THE ULTIMATE MOCK SPA DAY
DESCRIPTION:Welcome to The Ultimate Mock Spa Day at the Lasting Layers of B
 eauty Institute! This exclusive event invites guests to indulge in a day o
 f pampering and relaxation while providing beauty school students with ess
 ential hands-on experience in a real spa environment.\n\nEvent Highlights:
 \n\n 	Authentic Spa Services: Guests can choose between an express facial 
 or a rejuvenating back treatment\, both performed by our talented students
  under the guidance of experienced professionals. This is a perfect opport
 unity to experience quality spa treatments while supporting the next gener
 ation of beauty experts.\n 	Complimentary Refreshments: Attendees can enjo
 y a selection of light appetizers and refreshing beverages as they unwind 
 in our tranquil setting\, making for a truly relaxing experience.\n 	Suppo
 rt Future Professionals: By participating in this event\, guests play a cr
 ucial role in helping students prepare for their careers. This hands-on ex
 perience in a realistic spa environment is invaluable for building their c
 onfidence and skills.\n\nJoin us for a day dedicated to relaxation and sel
 f-care while fostering the growth of aspiring spa professionals. Don’t m
 iss this opportunity to enjoy complimentary spa services and support the f
 uture of beauty!\n\nGET TICKETS\n
ATTACH;FMTTYPE=image/jpeg:https://breatheatlanta.us/wp-content/uploads/202
 4/10/THE-ULTIMATE-MOCK-SPA-DAY.jpeg
CATEGORIES:Wellness Events
LOCATION:Lasting Layers of Beauty Institute\, 2260 Northlake \, Parkway #10
 0 Tucker\, Georgia\, 30084\, GA\, United States
X-APPLE-STRUCTURED-LOCATION;VALUE=URI;X-ADDRESS=2260 Northlake \, Parkway #
 100 Tucker\, Georgia\, 30084\, GA\, United States;X-APPLE-RADIUS=100;X-TIT
 LE=Lasting Layers of Beauty Institute:geo:0,0
END:VEVENT
BEGIN:VTIMEZONE
TZID:America/New_York
X-LIC-LOCATION:America/New_York
BEGIN:STANDARD
DTSTART:20241103T010000
TZOFFSETFROM:-0400
TZOFFSETTO:-0500
TZNAME:EST
END:STANDARD
END:VTIMEZONE
END:VCALENDAR