BEGIN:VCALENDAR
VERSION:2.0
PRODID:-//wp-events-plugin.com//7.2.3.1//EN
TZID:America/New_York
X-WR-TIMEZONE:America/New_York
BEGIN:VEVENT
UID:167@breatheatlanta.us
DTSTART;TZID=America/New_York:20240502T191500
DTEND;TZID=America/New_York:20240502T201500
DTSTAMP:20240328T074912Z
URL:https://breatheatlanta.us/events/the-wake-up-flow-with-eazy-50-off/
SUMMARY:The Wake Up Flow (with Eazy) *50% off*
DESCRIPTION:\n\n\n\n\n\n\n\n\n\n\n\n\nWake Up Flow" gently guides you throu
 gh a morning mobility and stretch class\, infusing each movement with ener
 gizing intentions to set a positive tone for your entire day ahead.\n\n\n\
 n\n\n\n\n\n\n\n\n\n\nEvent Information:\n\nEvent: The Wake Up Flow (with E
 azy) 50% off\n\nDate and Time: Thursday\, May 2\, 7:15 - 8:15 AM EDT.\n\nL
 ocation: The Union Fit Hub\, 828 Ralph McGill Boulevard Northeast #w4 Atla
 nta\, GA 30306\, United States\n\nTicket Information:\n\nGeneral Admission
 : $10.00\n\nSales Tax: $0.89\n\nTotal: $10.89\n\nGET TICKETS\n\n\n\nAbout 
 this Event: "The Wake Up Flow\," a morning mobility and stretch class desi
 gned to guide you through an energizing practice that sets a positive tone
  for the day. Led by Eazy at The Union Fit Hub\, this class focuses on bui
 lding strength\, flexibility\, and body awareness through synchronized bre
 ath and movement.\n\nWorkout Session Detail: The Wake Up Flow emphasizes m
 obility-focused stretches that enhance strength\, flexibility\, and body a
 wareness. Through synchronized breath and movement\, participants activate
  lean muscle groups\, increase circulation\, and improve overall stability
  and balance.\n\nEssentials to Bring: Participants are encouraged to bring
  their own yoga mats. Comfortable clothing suitable for movement is recomm
 ended.\n\nParking Option: No specific parking information provided. Attend
 ees are advised to check local parking availability near The Union Fit Hub
 .\n\nBenefits of The Wake-Up Flow:\n\nIncreased Energy\n\nImproved Flexibi
 lity\n\nStrength and Tone\n\nStress Reduction\n\nEnhanced Focus\n\nBetter 
 Posture and Alignment\n\nPositive Mindset\n\n
ATTACH;FMTTYPE=image/jpeg:https://breatheatlanta.us/wp-content/uploads/202
 4/03/https___cdn.evbuc_.com_images_684418249_1559630673043_1_original.jpeg
CATEGORIES:Wellness Events,Yoga Events
LOCATION:The Union Fit Hub\, 828 Ralph McGill Boulevard Northeast #w4 Atlan
 ta\, GA  \, United States\, 30306\, GA\, United States
X-APPLE-STRUCTURED-LOCATION;VALUE=URI;X-ADDRESS=828 Ralph McGill Boulevard 
 Northeast #w4 Atlanta\, GA  \, United States\, 30306\, GA\, United States;
 X-APPLE-RADIUS=100;X-TITLE=The Union Fit Hub:geo:0,0
END:VEVENT
BEGIN:VTIMEZONE
TZID:America/New_York
X-LIC-LOCATION:America/New_York
BEGIN:DAYLIGHT
DTSTART:20240310T030000
TZOFFSETFROM:-0500
TZOFFSETTO:-0400
TZNAME:EDT
END:DAYLIGHT
END:VTIMEZONE
END:VCALENDAR