BEGIN:VCALENDAR
VERSION:2.0
PRODID:-//wp-events-plugin.com//7.2.3.1//EN
TZID:America/New_York
X-WR-TIMEZONE:America/New_York
BEGIN:VEVENT
UID:48@breatheatlanta.us
DTSTART;TZID=America/New_York:20240414T133000
DTEND;TZID=America/New_York:20240414T163000
DTSTAMP:20240322T104028Z
URL:https://breatheatlanta.us/events/the-wellness-marketplace/
SUMMARY:The Wellness Marketplace
DESCRIPTION:\n\n\n\n\n\n\n\n\n\n\n\n\n\n\n\n\n\n\n\n\n\n\n\n\nThe event fea
 tures Holistic Wellness and Family Survival Tips Workshops running from 1:
 30 p.m. to 4:30 p.m. These workshops aim to provide attendees with holisti
 c approaches to wellness\, covering topics such as mental health\, nutriti
 on\, stress management\, and practical strategies for family well-being an
 d survival. Participants can expect to gain valuable insights and practica
 l tools to enhance their overall health and resilience\, benefiting both t
 hemselves and their families.\n\n\n\n\n\n\n\n\n\n\n\n\n\nEvent Information
 :\n\nDate and Time: Sunday\, April 14\, 1:30 p.m. - 4:30 p.m. PDT\n\nLocat
 ion: Project Torchlight\, 5134 Old National Highway #suite E Atlanta\, GA 
 30349\, United States\n\nTicket Price:\n\nGeneral Admission: $10.00\n\nFee
 s: $2.24\n\nSales Tax: $0.95\n\nTotal: $13.19\n\n&nbsp\;\n\nGET TICKETS\n\
 nAbout this Event: Join Dr. Mayyada Muhammad\, Nurse Betty Ali\, and Holis
 tic Practitioner Sandy Beauford Muhammad to learn about new technology des
 igned to assist with various illnesses such as Diabetes\, High Blood Press
 ure\, Painful Joints\, Herniated Disks\, Sore Joints\, and more.\n\nTicket
  Information: Contact the organizer for ticket purchases and inquiries. Ev
 entbrite's fee is nonrefundable.\n\nWorkout Session Detail: The event will
  include workshops on Holistic Wellness and Family Survival Tips from 1:30
  p.m. to 4:30 p.m.\n\nEssentials to Bring: There are no specific items lis
 ted as essential to bring. However\, attendees may want to bring a noteboo
 k and pen to take notes during the workshops.\n\nParking Option: Informati
 on about parking options at Project Torchlight is not provided. Attendees 
 are advised to check with the venue or the event organizer for parking arr
 angements.\n\n\n\n\n\n\n\n\n\n\n\n\n
ATTACH;FMTTYPE=image/jpeg:https://breatheatlanta.us/wp-content/uploads/202
 4/03/https___cdn.evbuc_.com_images_326903199_1074984109703_1_original.jpg
CATEGORIES:Featured Events,Wellness Events
LOCATION:Project Torchlight\, 5134 Old National Highway #suite E Atlanta\, 
 GA 30349 United States\, GA \,  United States\, 30349\, GA \, United State
 s
X-APPLE-STRUCTURED-LOCATION;VALUE=URI;X-ADDRESS=5134 Old National Highway #
 suite E Atlanta\, GA 30349 United States\, GA \,  United States\, 30349\, 
 GA \, United States;X-APPLE-RADIUS=100;X-TITLE=Project Torchlight:geo:0,0
END:VEVENT
BEGIN:VTIMEZONE
TZID:America/New_York
X-LIC-LOCATION:America/New_York
BEGIN:DAYLIGHT
DTSTART:20240310T030000
TZOFFSETFROM:-0500
TZOFFSETTO:-0400
TZNAME:EDT
END:DAYLIGHT
END:VTIMEZONE
END:VCALENDAR