BEGIN:VCALENDAR
VERSION:2.0
PRODID:-//wp-events-plugin.com//7.2.3.1//EN
TZID:America/New_York
X-WR-TIMEZONE:America/New_York
BEGIN:VEVENT
UID:607@breatheatlanta.us
DTSTART;TZID=America/New_York:20241114T180000
DTEND;TZID=America/New_York:20241114T200000
DTSTAMP:20241013T092953Z
URL:https://breatheatlanta.us/events/the-winners-circle-presents-dr-khadij
 ah-askari/
SUMMARY:The Winners Circle Presents Dr Khadijah Askari
DESCRIPTION:The Winners Circle is proud to present an inspiring event featu
 ring the renowned Dr. Khadijah Askari\, hosted at The Book Bank. Dr. Askar
 i\, a passionate advocate for holistic well-being\, offers unique and pers
 onalized strategies that empower individuals to lead balanced\, fulfilling
  lives by nurturing both their physical and mental health.\n\nAttendees wi
 ll have the opportunity to engage with Dr. Askari’s insightful approach 
 to wellness\, gaining practical tools and knowledge designed to support pe
 rsonal growth and overall vitality. Known for her expertise in promoting a
  well-rounded lifestyle\, Dr. Askari’s guidance helps individuals flouri
 sh in all areas of life\, integrating mind\, body\, and spirit.\n\nThis en
 lightening event promises to be an inspiring experience for anyone seeking
  to enhance their well-being and unlock their full potential. Don’t miss
  the chance to learn from Dr. Askari at this transformative gathering!\n\n
 GET TICKETS\n
ATTACH;FMTTYPE=image/jpeg:https://breatheatlanta.us/wp-content/uploads/202
 4/10/The-Winners-Circle-Presents-Dr-Khadijah-Askari.jpeg
CATEGORIES:Wellness Events
LOCATION:The Book Bank\, 2082 Faulkner Road \, NE Atlanta\, Georgia\, 30324
 \, GA\, United States
X-APPLE-STRUCTURED-LOCATION;VALUE=URI;X-ADDRESS=2082 Faulkner Road \, NE At
 lanta\, Georgia\, 30324\, GA\, United States;X-APPLE-RADIUS=100;X-TITLE=Th
 e Book Bank:geo:0,0
END:VEVENT
BEGIN:VTIMEZONE
TZID:America/New_York
X-LIC-LOCATION:America/New_York
BEGIN:STANDARD
DTSTART:20241103T010000
TZOFFSETFROM:-0400
TZOFFSETTO:-0500
TZNAME:EST
END:STANDARD
END:VTIMEZONE
END:VCALENDAR