BEGIN:VCALENDAR
VERSION:2.0
PRODID:-//wp-events-plugin.com//7.2.3.1//EN
TZID:America/New_York
X-WR-TIMEZONE:America/New_York
BEGIN:VEVENT
UID:590@breatheatlanta.us
DTSTART;TZID=America/New_York:20241102T120000
DTEND;TZID=America/New_York:20241102T150000
DTSTAMP:20241010T150048Z
URL:https://breatheatlanta.us/events/the-winners-circle-presents-the-physi
 ology-of-relaxation/
SUMMARY:The Winners Circle presents the Physiology of Relaxation
DESCRIPTION:The Winners Circle proudly presents The Physiology of Relaxatio
 n\, an enlightening event taking place on Saturday\, November 2\, 2024\, a
 t 12:00 PM\, hosted at The Book Bank. This event promises a thought-provok
 ing exploration of the intricate connection between the physical world and
  metaphysical concepts like consciousness\, existence\, and spirituality.\
 n\nParticipants will delve into the relationship between the tangible univ
 erse and abstract ideas\, examining perspectives that range from ancient p
 hilosophical dualism to cutting-edge scientific theories such as quantum m
 echanics and consciousness studies. The conversation will explore how prac
 tices like meditation and mind-body healing bridge metaphysical beliefs wi
 th physical health outcomes\, shedding light on the spiritual and ethical 
 dimensions of understanding reality beyond the measurable world.\n\nAttend
 ees will leave with deeper insights into how metaphysical ideas intertwine
  with modern scientific views\, and how these perspectives can enrich both
  personal well-being and a broader understanding of existence. Hosted by @
 bohemian.maverick\, this event invites you to engage in a meaningful dialo
 gue about the intersection of science\, spirituality\, and the human exper
 ience.\n\nGET TICKETS\n
ATTACH;FMTTYPE=image/jpeg:https://breatheatlanta.us/wp-content/uploads/202
 4/10/The-Winners-Circle-presents-the-Physiology-of-Relaxation.jpeg
CATEGORIES:Wellness Events
LOCATION:The Book Bank\, 2082 Faulkner Road NE \, Atlanta\, Georgia\,  3032
 4\, GA\, United States
X-APPLE-STRUCTURED-LOCATION;VALUE=URI;X-ADDRESS=2082 Faulkner Road NE \, At
 lanta\, Georgia\,  30324\, GA\, United States;X-APPLE-RADIUS=100;X-TITLE=T
 he Book Bank:geo:0,0
END:VEVENT
BEGIN:VTIMEZONE
TZID:America/New_York
X-LIC-LOCATION:America/New_York
BEGIN:DAYLIGHT
DTSTART:20240310T030000
TZOFFSETFROM:-0500
TZOFFSETTO:-0400
TZNAME:EDT
END:DAYLIGHT
END:VTIMEZONE
END:VCALENDAR