BEGIN:VCALENDAR
VERSION:2.0
PRODID:-//wp-events-plugin.com//7.2.3.1//EN
TZID:America/New_York
X-WR-TIMEZONE:America/New_York
BEGIN:VEVENT
UID:280@breatheatlanta.us
DTSTART;TZID=America/New_York:20240628T083000
DTEND;TZID=America/New_York:20240629T233000
DTSTAMP:20240515T092142Z
URL:https://breatheatlanta.us/events/thee-live-collective-a-spiritual-revi
 val/
SUMMARY:Thee LIVE Collective: A Spiritual Revival
DESCRIPTION:Welcome to Thee LIVE Collective: A Spiritual Revival\, where se
 ekers of enlightenment and transformation unite for an extraordinary in-pe
 rson experience. This event offers a sacred space for individuals to celeb
 rate spirituality\, forge deep connections\, and embark on a journey of pe
 rsonal growth.\n\nDay One: Community Flow\n\n 	Vibrant Marketplace: Explor
 e spiritually inspired goods and services in our dynamic vendor marketplac
 e.\n 	Yoga and Meditation: Center your mind and body with rejuvenating yog
 a and meditation sessions.\n 	Movement Workshops: Engage in intimate movem
 ent workshops and chakra healing exercises.\n 	Collective Energy Exchange:
  Flow together as a community\, circulating wealth and energy amongst each
  other.\n\nDay Two: Insight and Connection\n\n 	Collective Readings: Gain 
 insights and guidance from esteemed spiritual advisors through collective 
 readings.\n 	Mindfulness Workshops: Deepen your practice and expand your a
 wareness in mindfulness workshops.\n 	TheeZenDen LIVE: Experience the capt
 ivating magic of TheeZenDen LIVE with MilaTheMagician\, a celebration of i
 nsight and humor.\n\nDay Three: Celebration of Soul\n\n 	AuraVibezPride Ch
 akra Brunch: Celebrate sisterhood and soul connections over a joyous brunc
 h.\n 	Graduation Ceremonies: Witness heartwarming graduation ceremonies\, 
 honoring personal milestones.\n 	Heartfelt Conversations: Engage in heartf
 elt conversations and share sentimental experiences with fellow attendees.
 \n 	Blessing Way Ceremony: Conclude the event with a soulful Blessing Way 
 Ceremony\, honoring the sacred journey of conception\, pregnancy\, and new
  motherhood.\n\nExperience the Magic: Throughout the event\, you'll have t
 he opportunity to immerse yourself in transformative experiences\, connect
  with like-minded souls\, and bask in the magic of community. Whether you'
 re seeking spiritual enlightenment\, meaningful connections\, or simply a 
 moment of introspection\, Thee LIVE Collective promises to enrich your jou
 rney and elevate your spirit.\n\nDon't Miss Out: Join us at Thee Live Coll
 ective and let your soul soar to new heights. Your spiritual awakening awa
 its. See you there!\n\nGET TICKETS\n
ATTACH;FMTTYPE=image/jpeg:https://breatheatlanta.us/wp-content/uploads/202
 4/05/Thee-Live-Collective-A-Spiritual-Revival.jpg
CATEGORIES:Mindfulness Events,Yoga Events
LOCATION:Hotel Colee\, 3377 Peachtree Road Northeast Atlanta\, Autograph Co
 llection\, GA\, 30326\, United States
X-APPLE-STRUCTURED-LOCATION;VALUE=URI;X-ADDRESS=3377 Peachtree Road Northea
 st Atlanta\, Autograph Collection\, GA\, 30326\, United States;X-APPLE-RAD
 IUS=100;X-TITLE=Hotel Colee:geo:0,0
END:VEVENT
BEGIN:VTIMEZONE
TZID:America/New_York
X-LIC-LOCATION:America/New_York
BEGIN:DAYLIGHT
DTSTART:20240310T030000
TZOFFSETFROM:-0500
TZOFFSETTO:-0400
TZNAME:EDT
END:DAYLIGHT
END:VTIMEZONE
END:VCALENDAR