BEGIN:VCALENDAR
VERSION:2.0
PRODID:-//wp-events-plugin.com//7.2.3.1//EN
TZID:America/New_York
X-WR-TIMEZONE:America/New_York
BEGIN:VEVENT
UID:550@breatheatlanta.us
DTSTART;TZID=America/New_York:20241019T150000
DTEND;TZID=America/New_York:20241019T160000
DTSTAMP:20241001T135557Z
URL:https://breatheatlanta.us/events/therapeutic-group/
SUMMARY:Therapeutic Group
DESCRIPTION:These therapeutic group sessions offer an evidence-based approa
 ch designed to help participants navigate and overcome life's challenges. 
 By addressing the complexities individuals face at various crossroads in l
 ife\, the sessions provide valuable tools for personal growth and resilien
 ce. Participants are guided through structured discussions and activities 
 that promote healing\, self-awareness\, and problem-solving.\n\nThis group
  setting fosters a supportive environment where individuals can share thei
 r experiences\, gain new perspectives\, and work through difficulties toge
 ther. Whether dealing with career transitions\, relationship issues\, or e
 motional challenges\, these sessions aim to help participants advance to n
 ew stages of life with greater clarity and confidence.\n\nThrough the use 
 of proven therapeutic techniques\, individuals are encouraged to break dow
 n obstacles and embrace positive change\, empowering them to move forward 
 with renewed purpose and well-being.
ATTACH;FMTTYPE=image/jpeg:https://breatheatlanta.us/wp-content/uploads/202
 4/10/Therapeutic-Group.jpg
CATEGORIES:Things To Do
LOCATION:Neighborhood Church\, 1561 McLendon Avenue\, Northwest Atlanta\, G
 eorgia\, 30318\, GA\, United States
X-APPLE-STRUCTURED-LOCATION;VALUE=URI;X-ADDRESS=1561 McLendon Avenue\, Nort
 hwest Atlanta\, Georgia\, 30318\, GA\, United States;X-APPLE-RADIUS=100;X-
 TITLE=Neighborhood Church:geo:0,0
END:VEVENT
BEGIN:VTIMEZONE
TZID:America/New_York
X-LIC-LOCATION:America/New_York
BEGIN:DAYLIGHT
DTSTART:20240310T030000
TZOFFSETFROM:-0500
TZOFFSETTO:-0400
TZNAME:EDT
END:DAYLIGHT
END:VTIMEZONE
END:VCALENDAR