BEGIN:VCALENDAR
VERSION:2.0
PRODID:-//wp-events-plugin.com//7.2.3.1//EN
TZID:America/New_York
X-WR-TIMEZONE:America/New_York
BEGIN:VEVENT
UID:283@breatheatlanta.us
DTSTART;TZID=America/New_York:20240602T160000
DTEND;TZID=America/New_York:20240602T180000
DTSTAMP:20240525T073623Z
URL:https://breatheatlanta.us/events/theres-no-business-like-show-business
 /
SUMMARY:There's No Business Like Show Business
DESCRIPTION:Embark on a musical journey celebrating the birth of American P
 opular Song and the extraordinary life of Irving Berlin. The Flying Carpet
  Theatre Company presents a spectacular show featuring Atlanta's top music
 al theater artists performing Berlin's timeless classics while narrating h
 is inspiring story. From beloved hits like "Blue Skies" to the patriotic "
 God Bless America\," audiences will be enchanted by Berlin's enduring lega
 cy.\n\nDiscover how this Russian immigrant rose to become one of America's
  most legendary songwriters. Irving Berlin penned over 1\,250 songs\, with
  25 reaching No. 1 on the charts\, and composed 17 Broadway musical scores
 . This incredible tribute\, delivered by performers with Hollywood\, Broad
 way\, and Atlanta stage credits\, is a must-see.\nMolly Blank Concert Seri
 es\nStep into a decade of musical enchantment with the 10th season of the 
 Molly Blank Concert Series at the Breman Museum. Leslie Gordon\, Breman's 
 executive director\, emphasizes the unique connection forged through live 
 performances and conversations. In the intimate theater\, surrounded by ki
 ndred spirits\, audiences can broaden their perspectives together.\n\nEach
  show in the Molly Blank Concert Series tradition will be complemented by 
 pre-performance receptions featuring professionally catered food inspired 
 by the musical themes presented. Celebrate a decade of musical excellence 
 and community connection\, where the love for music meets the joy of share
 d experiences.\nDon’t Miss Out\nReserve your tickets now for this wonder
 ful musical experience that will leave you spellbound. Join us for an even
 ing of unparalleled beauty and excitement as we honor the legacy of Irving
  Berlin and celebrate a decade of the Molly Blank Concert Series.\n\nGET T
 ICKETS\n
ATTACH;FMTTYPE=image/jpeg:https://breatheatlanta.us/wp-content/uploads/202
 4/05/Theres-No-Business-Like-Show-Business-1.jpg
LOCATION:The Breman Museum\, 1440 Spring Street\, Northwest Atlanta\, GA\, 
 30188\, 30309\, United States
X-APPLE-STRUCTURED-LOCATION;VALUE=URI;X-ADDRESS=1440 Spring Street\, Northw
 est Atlanta\, GA\, 30188\, 30309\, United States;X-APPLE-RADIUS=100;X-TITL
 E=The Breman Museum:geo:0,0
END:VEVENT
BEGIN:VTIMEZONE
TZID:America/New_York
X-LIC-LOCATION:America/New_York
BEGIN:DAYLIGHT
DTSTART:20240310T030000
TZOFFSETFROM:-0500
TZOFFSETTO:-0400
TZNAME:EDT
END:DAYLIGHT
END:VTIMEZONE
END:VCALENDAR