BEGIN:VCALENDAR
VERSION:2.0
PRODID:-//wp-events-plugin.com//7.2.3.1//EN
TZID:America/New_York
X-WR-TIMEZONE:America/New_York
BEGIN:VEVENT
UID:611@breatheatlanta.us
DTSTART;TZID=America/New_York:20241103T150000
DTEND;TZID=America/New_York:20241103T170000
DTSTAMP:20241013T120632Z
URL:https://breatheatlanta.us/events/tipsy-tea-at-the-whitley/
SUMMARY:Tipsy Tea at The Whitley
DESCRIPTION:The Whitley in Buckhead invites guests to indulge in its celebr
 ated "Tipsy Tea\," an elevated and fun twist on traditional afternoon tea.
  Known for being one of the city's most popular boozy tea experiences\, th
 is event offers a delightful blend of savory bites and elegant desserts. W
 hat sets Tipsy Tea apart is the assortment of teapots filled with uniquely
  crafted\, alcohol-infused beverages\, designed to heighten the enjoyment 
 of the experience. Perfect for a leisurely Sunday outing\, this sophistica
 ted yet playful tea service is available every Sunday from 3 to 5 p.m. The
  all-inclusive price is $85 per person\, ensuring a luxurious and memorabl
 e afternoon.\n\nGET TICKETS\n
ATTACH;FMTTYPE=image/jpeg:https://breatheatlanta.us/wp-content/uploads/202
 4/10/Tipsy-Tea-at-The-Whitley.jpeg
CATEGORIES:Food &amp; Drink Events
LOCATION:3434 Peachtree Rd NE\, 3434 Peachtree Road \, Northeast Atlanta\, 
 Georgia\, 30326\, CA\, United States
X-APPLE-STRUCTURED-LOCATION;VALUE=URI;X-ADDRESS=3434 Peachtree Road \, Nort
 heast Atlanta\, Georgia\, 30326\, CA\, United States;X-APPLE-RADIUS=100;X-
 TITLE=3434 Peachtree Rd NE:geo:0,0
END:VEVENT
BEGIN:VTIMEZONE
TZID:America/New_York
X-LIC-LOCATION:America/New_York
BEGIN:STANDARD
DTSTART:20241103T010000
TZOFFSETFROM:-0400
TZOFFSETTO:-0500
TZNAME:EST
END:STANDARD
END:VTIMEZONE
END:VCALENDAR