BEGIN:VCALENDAR
VERSION:2.0
PRODID:-//wp-events-plugin.com//7.2.3.1//EN
TZID:America/New_York
X-WR-TIMEZONE:America/New_York
BEGIN:VEVENT
UID:21@breatheatlanta.us
DTSTART;TZID=America/New_York:20231028T173000
DTEND;TZID=America/New_York:20231029T173000
DTSTAMP:20230926T194300Z
URL:https://breatheatlanta.us/events/top-chefs-in-atlanta-unveiling-culina
 ry-masters-at-chef-fest-2023/
SUMMARY:Top Chefs in Atlanta: Unveiling Culinary Masters at Chef Fest 2023
DESCRIPTION:Experience culinary artistry with the Top Chefs in Atlanta at C
 hef Fest 2023! Dive into exquisite dishes and meet the city's gastronomic 
 legends.
ATTACH;FMTTYPE=image/jpeg:https://breatheatlanta.us/wp-content/uploads/202
 3/09/https___cdn.evbuc_.com_images_599141099_172738421606_1_original.jpeg
CATEGORIES:Food &amp; Drink Events,Things To Do
END:VEVENT
BEGIN:VTIMEZONE
TZID:America/New_York
X-LIC-LOCATION:America/New_York
BEGIN:DAYLIGHT
DTSTART:20230312T030000
TZOFFSETFROM:-0500
TZOFFSETTO:-0400
TZNAME:EDT
END:DAYLIGHT
END:VTIMEZONE
END:VCALENDAR