BEGIN:VCALENDAR
VERSION:2.0
PRODID:-//wp-events-plugin.com//7.2.3.1//EN
TZID:America/New_York
X-WR-TIMEZONE:America/New_York
BEGIN:VEVENT
UID:24@breatheatlanta.us
DTSTART;TZID=America/New_York:20230924T180000
DTEND;TZID=America/New_York:20230924T210000
DTSTAMP:20230924T162714Z
URL:https://breatheatlanta.us/events/trap-yoga-in-park/
SUMMARY:Trap Yoga in Park
DESCRIPTION:Transform Your Yoga Practice with Heavy Bass Hip-Hop and R&amp\
 ;B Beats\n\nAre you looking for a unique and exciting way to do yoga? Are 
 you tired of the same old yoga classes? Have you ever wondered if there's 
 a way to take your yoga in park practice to a new level?\n\nWhat if we tol
 d you there's just one thing that can make your yoga experience extraordin
 ary?\n\nImagine this... Picture yourself doing yoga as the sun sets\, guid
 ed by the heavy bass hip-hop\, R&amp\;B\, and soul music. What if this mus
 ic could help you connect with your breath and intentions in a completely 
 new way?\n\nWe are the Level3 Yoga team and are we thrilled to introduce y
 ou to an amazing experience – Trap Yoga in Park. We're all about bringin
 g innovation and energy to the world of yoga.\n\nOur journey started diffe
 rently. We were regular yoga practitioners\, just like you\, searching for
  something more exciting and unique. We wanted a yoga experience that went
  beyond the ordinary.\n\nWe struggled to find a yoga class that combined t
 he beauty of nature\, the power of music\, and the tranquility of yoga. Th
 at's when we discovered the magic of Trap Yoga in the Park.\n\nSince then\
 , our journey has been filled with incredible achievements and transformat
 ions. Trap Yoga in the Park is a yoga class like no other\, designed to un
 leash your inner rhythm and connect you with your breath in an inspiring o
 utdoor setting.\n\nHere's what we're going to do:\n\n 	Explore Fundamental
  Yoga Postures: Connect with the core of yoga.\n 	Set to Heavy Bass Hip-Ho
 p/R&amp\;B/Soul: Elevate your practice with unique music.\n 	All-Levels\, 
 Beginner-Friendly: Perfect for everyone.\n 	Vibe and Connect with Your Bre
 ath: Experience yoga like never before.\n\nSee for yourself the incredible
  transformations our students have experienced as they've delved into the 
 world of Trap Yoga in the Park:\n\n"I'm so glad I came. I noticed yesterda
 y that I was improving and able to get deeper in my positions (my ankle is
  recovering\, but I felt good stretching). Thank you so much."-Tamika\n\n"
 I feel great. I feel zen. This was my first time doing this and I definite
 ly will be back."\n\nPLUS\, when you donate at least $10 to class\, you'll
  also receive some fantastic bonuses:\n\nBonus 1: Free download of our men
 tal health resource guide\n\nBonus 2: Exclusive Access to Our "Kickstart Y
 our Wellness Routine: An Intro to Yoga" online program\n\nDon't miss out o
 n this opportunity to elevate your yoga practice. Click the 'Select a Date
 ' button below and join us for Trap Yoga in the Park. Your journey to a un
 ique and revitalizing yoga experience starts here.\n\nUPCOMING SCHEDULE:\n
 \nSunday\, September 3 - NO CLASS\n\nSunday\, September 10 - BYOB (Bring Y
 our Own Buddy) + Yoga and Intention-Setting Class with The Lemondate Journ
 al Co. (Part 1)\n\nSunday\, September 17 - BYOB (Bring Your Own Buddy) + Y
 oga and Intention-Setting Class with The Lemondate Journal Co. (Part 2)\n\
 nSunday\, September 24 - BYOB (Bring Your Own Buddy) + Yoga and Intention-
 Setting Class with The Lemondate Journal Co. (Finale)\n\nLOCATION:\n\nWEST
 SIDE PARK: 1660 Johnson Road NW\, Atlanta 30318\, Georgia\n\nEnter and par
 k near ENTRANCE 1 (See video below if you get lost)\n\nFIND US ON SOCIAL!\
 n\nwww.level3yoga.com\n\nInstagram/Facebook - @level3yoga\n\nDISCLAIMER\n\
 nBy attending the event\, you consent to be photographed\, filmed\, and/or
  otherwise recorded\, and to any use\, in any and all media\, throughout t
 he universe in perpetuity\, of my name\, voice\, image\, and likeness\, fo
 r any purpose whatsoever\, without compensation. You release Level3 Yoga\,
  its parent\, successors\, assigns\, and licensees from liability for such
  usage.\n\nLIABILITY\n\nI acknowledge and fully understand that I will be 
 engaging in physical activities that may involve the risk of injury. I ack
 nowledge that I have been advised to consult with my physician concerning 
 any past or present injury\, illness\, health problem\, or any other condi
 tion or medication that may affect my participation in this yoga class. I 
 assume the previous risks and accept personal responsibility for any and a
 ll personal injury sustained by myself and discharge and hold harmless Lev
 el3 Yoga\, its owners\, directors\, members\, officers\, teachers\, employ
 ees\, and agents from any claim\, cause of action\, or liability for damag
 es arising from any injury to my person\, or other persons or property cau
 sed by my participation in Trap Yoga in the Park including the negligence 
 of Level3 Yoga.\n\n
ATTACH;FMTTYPE=image/jpeg:https://breatheatlanta.us/wp-content/uploads/202
 3/09/https___cdn.evbuc_.com_images_586372519_10633554459_1_original.jpeg
CATEGORIES:Wellness Events,Yoga Events
LOCATION:Westside Park\, 1660 Johnson Road \, GA 30318 United States\, Nort
 hwest Atlanta\, GA\, 30318\, United States
X-APPLE-STRUCTURED-LOCATION;VALUE=URI;X-ADDRESS=1660 Johnson Road \, GA 303
 18 United States\, Northwest Atlanta\, GA\, 30318\, United States;X-APPLE-
 RADIUS=100;X-TITLE=Westside Park:geo:0,0
END:VEVENT
BEGIN:VTIMEZONE
TZID:America/New_York
X-LIC-LOCATION:America/New_York
BEGIN:DAYLIGHT
DTSTART:20230312T030000
TZOFFSETFROM:-0500
TZOFFSETTO:-0400
TZNAME:EDT
END:DAYLIGHT
END:VTIMEZONE
END:VCALENDAR