BEGIN:VCALENDAR
VERSION:2.0
PRODID:-//wp-events-plugin.com//7.2.3.1//EN
TZID:America/New_York
X-WR-TIMEZONE:America/New_York
BEGIN:VEVENT
UID:482@breatheatlanta.us
DTSTART;TZID=America/New_York:20241019T110000
DTEND;TZID=America/New_York:20241019T150000
DTSTAMP:20240925T091628Z
URL:https://breatheatlanta.us/events/trust-your-body-a-holistic-workshop-f
 or-healing-and-empowerment/
SUMMARY:Trust Your Body: A Holistic Workshop for Healing and Empowerment
DESCRIPTION:Designed to foster a deeper connection with oneself\, the Trust
  Your Body workshop provides a unique opportunity for individuals to culti
 vate awareness\, understanding\, and a sense of safety within their own bo
 dies. This immersive experience emphasizes the harmonious integration of t
 herapy and chiropractic care in the healing process\, offering participant
 s a well-rounded approach to self-care and wellness.\nEvent Highlights:\n\
 n 	Mindfulness Practices: Learn techniques to stay present and grounded\, 
 promoting mental and emotional well-being.\n 	Education &amp\; Resources: 
 Gain insights into the benefits of chiropractic care and therapy\, and how
  they work together to promote healing.\n 	Self-Guided Mini-Workbook: Enga
 ge in reflective exercises designed to help you explore your body-mind con
 nection.\n 	Group Adjustment: Experience the benefits of a guided chiropra
 ctic adjustment\, aimed at enhancing bodily alignment and overall health.\
 n\nMeet the Presenters:\nDr. Emily Guy\, DC\nAs the owner of Sacred Presen
 ce\, Dr. Emily brings a wealth of experience in chiropractic care\, with a
  passion for holistic healing. Originally from New Jersey\, she now enjoys
  the vibrant community of Atlanta. Dr. Emily is highly skilled in various 
 chiropractic adjustment techniques and was introduced to Bio-Geometric Int
 egration (BGI) early in her career\, which she incorporates into every adj
 ustment. This unique framework allows her to deeply listen to the body and
  respond to its needs during the adjustment process. Her philosophy center
 s on the belief that the body is perfectly designed\, and her goal is to h
 elp people become more adaptable and in tune with their bodies\, so they c
 an continue healing\, growing\, and evolving.\n\nLindsey Cope\, LCSW\nLind
 sey is a Licensed Clinical Social Worker with extensive experience in trea
 ting eating disorders\, trauma\, and body image issues. She holds a Master
 's degree in Social Service Administration from the University of Chicago 
 and a Bachelor's degree in Social Work from Augusta University. With over 
 seven years of experience\, Lindsey has worked at various levels of care\,
  including partial hospitalization and outpatient services. She integrates
  a Health at Every Size (HAES) perspective in her practice and advocates f
 or fat justice\, encouraging women to reclaim their lives with confidence 
 and empowerment.\n\nThis workshop is ideal for anyone seeking to deepen th
 eir understanding of the mind-body connection\, improve their overall well
 -being\, and explore holistic methods for healing.\n\nGET TICKETS\n
ATTACH;FMTTYPE=image/jpeg:https://breatheatlanta.us/wp-content/uploads/202
 4/09/Trust-Your-Body.jpg
CATEGORIES:Wellness Events
LOCATION:1320 Ellsworth Industrial Blvd NW a500\,  Northwest  Atlanta\, Nor
 thwest Atlanta\, Georgia\, 30318\, GA\, United States
X-APPLE-STRUCTURED-LOCATION;VALUE=URI;X-ADDRESS= Northwest  Atlanta\, North
 west Atlanta\, Georgia\, 30318\, GA\, United States;X-APPLE-RADIUS=100;X-T
 ITLE=1320 Ellsworth Industrial Blvd NW a500:geo:0,0
END:VEVENT
BEGIN:VTIMEZONE
TZID:America/New_York
X-LIC-LOCATION:America/New_York
BEGIN:DAYLIGHT
DTSTART:20240310T030000
TZOFFSETFROM:-0500
TZOFFSETTO:-0400
TZNAME:EDT
END:DAYLIGHT
END:VTIMEZONE
END:VCALENDAR