BEGIN:VCALENDAR
VERSION:2.0
PRODID:-//wp-events-plugin.com//7.2.3.1//EN
TZID:America/New_York
X-WR-TIMEZONE:America/New_York
BEGIN:VEVENT
UID:429@breatheatlanta.us
DTSTART;TZID=America/New_York:20240910T190000
DTEND;TZID=America/New_York:20240910T210000
DTSTAMP:20240903T121315Z
URL:https://breatheatlanta.us/events/tuesday-recess-powered-by-lululemon/
SUMMARY:Tuesday Recess Powered by lululemon
DESCRIPTION:Join us for Tuesday Recess\, a revitalizing event curated by Je
 ss Pfeffer Holistic Event Planning and Interstitial Atl\, and powered by l
 ululemon. Designed for busy adults\, Tuesday Recess offers a much-needed b
 reak to refresh the mind\, body\, and soul—because everyone deserves a d
 aily recess\, just like kids.\n\nWhat to Expect:\n\n 	Unique Experiences: 
 Each session offers a completely distinct experience\, ensuring no two cla
 sses are ever the same.\n 	Inclusive and Accessible: Classes are designed 
 to be welcoming and accessible to participants of all ages and experience 
 levels\, making it easy for everyone to join in.\n 	Provided Mats: Thanks 
 to lululemon\, we provide the mats. Just bring yourself and get ready to e
 njoy!\n 	Wellness Practices: Sessions start with a wellness practice led b
 y some of Atlanta’s top practitioners. This may include yoga\, guided me
 ditation\, or a soothing sound bath.\n 	Local Tastings: Each class conclud
 es with a tasting from a local wellness-focused food or beverage business.
  Discover a range of delightful options\, from cacao and Ayurvedic tea to 
 non-alcoholic and CBD-infused spirits. You might find your new favorite tr
 eat!\n 	Artistic Venues: Classes are held in various in-town Atlanta art s
 paces. Immersing yourself in art aligns with our holistic wellness philoso
 phy\, and we look forward to introducing you to new artists and their work
 .\n 	Affordable Access: Reserve your spot for just $10\, thanks to our gen
 erous partners at lululemon.\n\nCome unwind\, recharge\, and prioritize yo
 ur self-care with us. Tuesday Recess is the perfect opportunity to pause a
 nd rejuvenate amid life’s chaos.\n\nGET TICKETS\n
ATTACH;FMTTYPE=image/jpeg:https://breatheatlanta.us/wp-content/uploads/202
 4/09/Tuesday-Recess-Powered-by-lululemon.jpg
CATEGORIES:Mindfulness Events,Things To Do,Wellness Events
LOCATION:A Permanent Address\, 680 North Avenue Northeast Atlanta\, Atlanta
 \, Georgia\, 30308\, GA\, United States
X-APPLE-STRUCTURED-LOCATION;VALUE=URI;X-ADDRESS=680 North Avenue Northeast 
 Atlanta\, Atlanta\, Georgia\, 30308\, GA\, United States;X-APPLE-RADIUS=10
 0;X-TITLE=A Permanent Address:geo:0,0
END:VEVENT
BEGIN:VTIMEZONE
TZID:America/New_York
X-LIC-LOCATION:America/New_York
BEGIN:DAYLIGHT
DTSTART:20240310T030000
TZOFFSETFROM:-0500
TZOFFSETTO:-0400
TZNAME:EDT
END:DAYLIGHT
END:VTIMEZONE
END:VCALENDAR