BEGIN:VCALENDAR
VERSION:2.0
PRODID:-//wp-events-plugin.com//7.2.3.1//EN
TZID:America/New_York
X-WR-TIMEZONE:America/New_York
BEGIN:VEVENT
UID:131@breatheatlanta.us
DTSTART;TZID=America/New_York:20240606T193000
DTEND;TZID=America/New_York:20250429T203000
DTSTAMP:20240909T102228Z
URL:https://breatheatlanta.us/events/twerk-and-heels-fitness-class/
SUMMARY:TWERK AND HEELS FITNESS CLASS
DESCRIPTION:Indulge in the Sexy and SNATCHED TWERKHOUSE Class\, an electrif
 ying fusion of fun\, sexiness\, and intensity aimed at sculpting your body
 \, shedding weight\, and snatching your waist!\n\nEvent Information:\n\nEv
 ent Name: TWERK AND HEELS FITNESS CLASS\n\nHosted By: WeightDRIP\n\nDate a
 nd Time: June 6\, 2023\, 7:30 PM - April 29\, 2025\, 8:30 PM EDT\n\nLocati
 on: 4463 Walt Stephens Rd\, Stockbridge\, GA 30281\, United States\n\nAbou
 t This Event:\n\nThe Sexy and SNATCHED TWERKHOUSE Class\, part of the SEXY
  WOMEN'S EVENTS collection! Presented by WeightDRIP\, this fun\, sexy\, an
 d high-energy class is designed to help you lose weight\, tone your body\,
  and SNATCH your waist! Our instructor @WEIGHTDRIP combines targeted glute
  and ab exercises with sensual and intuitive twerk choreography\, offering
  a unique and enjoyable workout experience. Get ready to unleash your inne
 r confidence and embrace your sexy side as you sweat it out on the dance f
 loor. Tennis shoes are required\, and comfy heels are suggested but option
 al.\n\nTicket Information:\n\nTickets are available at $15 - $25.\n\nGET T
 ICKETS\n\nWorkout Session Details:\n\nIntensity: High-energy and fun-fille
 d workout combining fitness targeting glutes and abs with sexy twerk chore
 ography.\n\nDuration: 1 hour.\n\nRequired Attire: Tennis shoes are require
 d. Comfy heels are suggested but optional.\n\nEssential to Bring:\n\nTenni
 s shoes\n\nComfy heels (optional)\n\nWater bottle\n\nTowel\n\nParking Opti
 ons:\n\nParking is available at the event location. Please follow signage 
 and instructions from event staff for parking arrangements.\n\nRefund Poli
 cy:\n\nNo refunds will be provided for this event.
ATTACH;FMTTYPE=image/jpeg:https://breatheatlanta.us/wp-content/uploads/202
 4/03/https-__cdn.evbuc_.com_images_462386829_475077558931_1_original.jpeg
CATEGORIES:Wellness Events,Yoga Events
LOCATION:4463 Walt Stephens Rd\, 4463 Walt Stephens Road Stockbridge\, GA 3
 0281 United States\, GA\,  United States\,  30281\, GA\, United States
X-APPLE-STRUCTURED-LOCATION;VALUE=URI;X-ADDRESS=4463 Walt Stephens Road Sto
 ckbridge\, GA 30281 United States\, GA\,  United States\,  30281\, GA\, Un
 ited States;X-APPLE-RADIUS=100;X-TITLE=4463 Walt Stephens Rd:geo:0,0
END:VEVENT
BEGIN:VTIMEZONE
TZID:America/New_York
X-LIC-LOCATION:America/New_York
BEGIN:DAYLIGHT
DTSTART:20240310T030000
TZOFFSETFROM:-0500
TZOFFSETTO:-0400
TZNAME:EDT
END:DAYLIGHT
BEGIN:STANDARD
DTSTART:20241103T010000
TZOFFSETFROM:-0400
TZOFFSETTO:-0500
TZNAME:EST
END:STANDARD
BEGIN:DAYLIGHT
DTSTART:20250309T030000
TZOFFSETFROM:-0500
TZOFFSETTO:-0400
TZNAME:EDT
END:DAYLIGHT
END:VTIMEZONE
END:VCALENDAR