BEGIN:VCALENDAR
VERSION:2.0
PRODID:-//wp-events-plugin.com//7.2.3.1//EN
TZID:America/New_York
X-WR-TIMEZONE:America/New_York
BEGIN:VEVENT
UID:285@breatheatlanta.us
DTSTART;TZID=America/New_York:20240606T200000
DTEND;TZID=America/New_York:20240606T220000
DTSTAMP:20240525T100711Z
URL:https://breatheatlanta.us/events/underground-comedy-hosted-by-grant-mi
 ller/
SUMMARY:Underground Comedy Hosted by Grant Miller
DESCRIPTION:Join us at The Chapter Room for an unforgettable night of laugh
 ter and fun at our Underground Comedy event\, hosted by the hilarious Gran
 t Miller! This evening promises to be filled with side-splitting jokes\, c
 lever humor\, and a vibrant atmosphere.\nEvent Highlights\nHosted by Grant
  Miller: Enjoy the comedic genius of Grant Miller as he leads the night wi
 th his witty and engaging humor.\n\nIntimate Setting: Experience comedy in
  a cozy\, intimate environment that brings you closer to the action and am
 plifies the laughter.\n\nPerfect for Groups: Gather your friends and come 
 ready to laugh your socks off. It's the perfect event for a night out with
  friends or a unique date night.\nDon't Miss Out\nThis in-person event is 
 your chance to enjoy top-notch comedy in a relaxed and welcoming setting. 
 Don't miss this unique opportunity to experience underground comedy at its
  best. Grab your tickets\, bring your friends\, and get ready for a night 
 of endless laughter and good vibes!\n\nGET TICKETS\n
ATTACH;FMTTYPE=image/jpeg:https://breatheatlanta.us/wp-content/uploads/202
 4/05/Underground-Comedy-Hosted-by-Grant-Miller.jpg
LOCATION:Chapter Room\, 5600 Roswell Road\, Sandy Springs\, Georgia\, 30342
 \, GA\, United States
X-APPLE-STRUCTURED-LOCATION;VALUE=URI;X-ADDRESS=5600 Roswell Road\, Sandy S
 prings\, Georgia\, 30342\, GA\, United States;X-APPLE-RADIUS=100;X-TITLE=C
 hapter Room:geo:0,0
END:VEVENT
BEGIN:VTIMEZONE
TZID:America/New_York
X-LIC-LOCATION:America/New_York
BEGIN:DAYLIGHT
DTSTART:20240310T030000
TZOFFSETFROM:-0500
TZOFFSETTO:-0400
TZNAME:EDT
END:DAYLIGHT
END:VTIMEZONE
END:VCALENDAR