BEGIN:VCALENDAR
VERSION:2.0
PRODID:-//wp-events-plugin.com//7.2.3.1//EN
TZID:America/New_York
X-WR-TIMEZONE:America/New_York
BEGIN:VEVENT
UID:766@breatheatlanta.us
DTSTART;TZID=America/New_York:20250215T140000
DTEND;TZID=America/New_York:20250215T210000
DTSTAMP:20250204T191300Z
URL:https://breatheatlanta.us/events/usui-holy-fire-iii-reiki-level-one-cl
 ass-2/
SUMMARY:Usui/Holy Fire® III Reiki Level One Class
DESCRIPTION:The Usui/Holy Fire® III Reiki Level One class offers a compreh
 ensive introduction to therapeutic touch techniques designed to reduce str
 ess\, balance energy\, and promote healing for oneself and others. This cl
 ass blends lectures\, discussions\, and hands-on experiences\, allowing st
 udents to practice giving and receiving a complete Reiki treatment while m
 astering hand positions and self-treatment methods.\n\nParticipants will r
 eceive their Level I Reiki placements (attunements)\, a certificate\, a de
 tailed manual\, class notes\, and guided practice. No prior healthcare or 
 natural healing experience is required\, making this workshop accessible a
 nd beneficial to individuals of all ages and backgrounds. The relaxed\, ca
 sual environment fosters learning while nurturing personal growth.\n\nClas
 s Details:\nThe Reiki class and attunement fee is $150\, which covers the 
 cost of the manual\, class notes\, guided practice\, attunement\, and cert
 ification. Please note that tickets will not be sold at the door. All proc
 eeds benefit Healing Hands Reiki and Spiritual Development\, Inc.\, a 501(
 c)(3) nonprofit organization\, making all donations tax-deductible.\n\nIns
 tructor:\nTiffany N. Monroe is the founder and CEO of Healing Hands Reiki 
 &amp\; Spiritual Development\, Inc. With extensive credentials\, she is an
  Usui/Holy Fire® III Reiki Master Teacher\, Usui Shiki Ryoho Reiki Master
  Teacher\, and Sekhmet Master Teacher. Tiffany holds a B.S.\, M.A.\, and E
 d.S and is an experienced biochemist\, product developer\, and ordained mi
 nister. She also actively teaches yoga and meditation\, incorporating holi
 stic practices into her professional offerings.\n\nMission and Vision:\nHe
 aling Hands Reiki\, Inc. strives to empower individuals to take charge of 
 their own healing processes by integrating Reiki into healthcare systems a
 nd community organizations. Their vision is to foster optimal living and b
 alance by helping individuals align with their natural healing abilities. 
 The organization offers a wide range of services\, including Reiki energy 
 treatments\, hands-on practice groups\, workshops for healthcare professio
 nals\, and spiritual support.\n\nClasses &amp\; Offerings Include:\n\n 	Re
 iki treatments and attunements\n 	Reiki share groups for hands-on practice
 \n 	Reiki workshops for individuals in healthcare or those affected by ill
 ness\, disability\, or trauma\n 	Instructional Reiki training with certifi
 cation\n 	Yoga\, meditation\, and conscious living classes\n 	Spiritual su
 pport from ordained ministers of all faiths\n 	Spiritual tools and product
 s for personal growth\n\nThrough its outreach programs and educational ini
 tiatives\, Healing Hands Reiki promotes Reiki as a holistic complementary 
 practice\, encouraging balance and well-being through the integration of m
 ind\, body\, emotion\, and spirit.\n\nFor more information\, visit www.hea
 linghandsreikiatl.org or follow on social media:\n\n 	Facebook: Healing Ha
 nds Reiki\n 	Instagram: @HealingHandsReikiATL\n 	Twitter: @healingreikiatl
 \n 	YouTube: Healing Hands Reiki Channel\n\nImportant Notice:\nBy attendin
 g the class\, participants agree to the use of their likeness in photos or
  videos taken during the event. These may be used by Healing Hands Reiki f
 or promotional purposes. Participants must be at least 18 years old\, or i
 f under 18\, have the consent of a parent or guardian.\n\nNo shoes are all
 owed inside the shala\, and shoes must be placed in the designated shoe ar
 ea. If you arrive more than 15 minutes late\, please attend the next sched
 uled class.\n\nGET TICKETS\n
ATTACH;FMTTYPE=image/jpeg:https://breatheatlanta.us/wp-content/uploads/202
 5/02/Usui-Holy-Fire-Reiki-Level-One-Class.jpg
CATEGORIES:Wellness Events
LOCATION:Healing Hands Reiki & Spiritual Development\, 27 Waddell St NE Sui
 te\, A Atlanta\, GA\, 30307\, GA\, United States
X-APPLE-STRUCTURED-LOCATION;VALUE=URI;X-ADDRESS=27 Waddell St NE Suite\, A 
 Atlanta\, GA\, 30307\, GA\, United States;X-APPLE-RADIUS=100;X-TITLE=Heali
 ng Hands Reiki & Spiritual Development:geo:0,0
END:VEVENT
BEGIN:VTIMEZONE
TZID:America/New_York
X-LIC-LOCATION:America/New_York
BEGIN:STANDARD
DTSTART:20241103T010000
TZOFFSETFROM:-0400
TZOFFSETTO:-0500
TZNAME:EST
END:STANDARD
END:VTIMEZONE
END:VCALENDAR