BEGIN:VCALENDAR
VERSION:2.0
PRODID:-//wp-events-plugin.com//7.2.3.1//EN
TZID:America/New_York
X-WR-TIMEZONE:America/New_York
BEGIN:VEVENT
UID:687@breatheatlanta.us
DTSTART;TZID=America/New_York:20241115T140000
DTEND;TZID=America/New_York:20241115T210000
DTSTAMP:20241024T152237Z
URL:https://breatheatlanta.us/events/usui-holy-fire-iii-reiki-level-one-cl
 ass/
SUMMARY:Usui/Holy Fire® III Reiki Level One Class
DESCRIPTION:The Usui/Holy Fire® III Reiki Level One training offers partic
 ipants an opportunity to learn therapeutic touch techniques designed to al
 leviate stress\, balance energy\, and promote healing for themselves and o
 thers. This comprehensive class combines lectures\, discussions\, and hand
 s-on experience\, allowing students to practice giving and receiving compl
 ete Reiki treatments using various hand positions\, as well as self-treatm
 ent techniques.\n\nParticipants will receive their Level I Reiki placement
 s (attunements)\, along with a certificate\, a detailed manual\, class not
 es\, and guided practice. No prior experience in healthcare or natural hea
 ling is necessary\, making the workshop accessible and enjoyable for indiv
 iduals of all ages and backgrounds.\n\nClass Details:\n\n 	Price: $150 (in
 cludes manual\, class notes\, guided practice\, attunement\, and certifica
 te)\n 	Note: Tickets will not be sold at the door. All proceeds support He
 aling Hands Reiki and Spiritual Development Inc.\, a recognized 501(c)(3) 
 nonprofit organization\, making all donations tax-deductible.\n 	Late Arri
 vals: Please attend the next scheduled class if arriving more than 15 minu
 tes late.\n 	Footwear Policy: No shoes are allowed in the Shala\; particip
 ants should place shoes in the designated area.\n\nInstructor: Tiffany N. 
 Monroe\n\n 	Founder &amp\; CEO of Healing Hands Reiki &amp\; Spiritual Dev
 elopment\, Inc.\n 	Usui/Holy Fire® III Reiki Master Teacher\n 	Usui Shiki
  Ryoho Reiki Master Teacher\n 	Sekhmet Master Teacher\n 	Seichim Reiki Mas
 ter Teacher\n 	Member of the Reiki Healing Association (RHA)\n 	Affiliate 
 Member of the Reiki Members Association (RMA)\n 	Member of the Internation
 al Association of Reiki Professionals (IARP)\n 	Ashtanga Yoga Student &amp
 \; Assistant at Ashtanga Yoga Atlanta\n 	RYT500 Certified\n 	Meditation Fa
 cilitator\n 	Biochemist &amp\; Product Developer\n 	Educator at Secondary 
 and University Levels\n 	Ordained Minister\, ULC\n\nMission Statement: Hea
 ling Hands Reiki\, Inc. empowers individuals to engage in their own healin
 g journeys by integrating Reiki into healthcare systems and community orga
 nizations\, fostering a supportive wellness community.\n\nVision Statement
 : Healing Hands Reiki\, Inc. aims to educate and inspire optimal living\, 
 enabling individuals to harness their innate healing abilities and achieve
  balance in their lives.\n\nServices Offered:\n\n 	Reiki energy treatments
  and attunements\n 	Hands-on Reiki practice through share groups\n 	Inform
 ative workshops for medical professionals and caregivers dealing with illn
 ess or trauma\n 	Instructional Reiki training with certification\n 	Yoga\,
  meditation\, and conscious living classes for personal growth\n 	Spiritua
 l support from ordained ministers across all faiths\n 	A variety of spirit
 ual products and tools\n\nThrough its classes and outreach programs\, Heal
 ing Hands Reiki promotes Reiki as a complementary holistic practice that e
 nhances health\, well-being\, and harmonious living. The focus on Reiki se
 lf-treatment and treatment for others fosters a state of well-being\, reco
 gnizing the interconnectedness of mind\, body\, emotions\, and spirit.\n\n
 Stay Connected:\n\n 	Blog: Healing Hands Reiki Blog\n 	Facebook: Healing H
 ands Reiki on Facebook\n 	Twitter: @healingreikiatl\n 	Instagram: @Healing
 HandsReikiATL\n 	YouTube: Watch "Healing Hands Reiki &amp\; Spiritual Deve
 lopment Inc." here.\n\n\nGET TICKETS\n
ATTACH;FMTTYPE=image/jpeg:https://breatheatlanta.us/wp-content/uploads/202
 4/10/Usui-Holy-Fire-III-Reiki-Level-One-Class.jpg
CATEGORIES:Wellness Events
LOCATION:Healing Hands Reiki & Spiritual Development\, 27 Waddell St NE Sui
 te \, A Altanta\, 30307\, GA\, United States
X-APPLE-STRUCTURED-LOCATION;VALUE=URI;X-ADDRESS=27 Waddell St NE Suite \, A
  Altanta\, 30307\, GA\, United States;X-APPLE-RADIUS=100;X-TITLE=Healing H
 ands Reiki & Spiritual Development:geo:0,0
END:VEVENT
BEGIN:VTIMEZONE
TZID:America/New_York
X-LIC-LOCATION:America/New_York
BEGIN:STANDARD
DTSTART:20241103T010000
TZOFFSETFROM:-0400
TZOFFSETTO:-0500
TZNAME:EST
END:STANDARD
END:VTIMEZONE
END:VCALENDAR