BEGIN:VCALENDAR
VERSION:2.0
PRODID:-//wp-events-plugin.com//7.2.3.1//EN
TZID:America/New_York
X-WR-TIMEZONE:America/New_York
BEGIN:VEVENT
UID:542@breatheatlanta.us
DTSTART;TZID=America/New_York;VALUE=DATE:20241013
DTEND;TZID=America/New_York;VALUE=DATE:20241014
DTSTAMP:20241001T123004Z
URL:https://breatheatlanta.us/events/uwok-mindfulness-guided-meditation/
SUMMARY:UWOK Mindfulness Guided Meditation
DESCRIPTION:The UWOK Mindfulness Guided Meditation offers participants a un
 ique opportunity to enhance their mental and emotional well-being through 
 structured mindfulness practices. This program is designed for individuals
  seeking to cultivate a deeper connection with themselves and the present 
 moment.\n\nDuring the guided meditation sessions\, participants will be le
 d by experienced instructors who specialize in mindfulness techniques. The
 se sessions aim to help individuals navigate the challenges of daily life\
 , reduce stress\, and improve focus and clarity. The mindfulness practices
  incorporated into the sessions encourage a heightened awareness of though
 ts and feelings\, promoting a sense of inner peace and balance.\n\nAs part
 icipants engage in mindfulness exercises\, they will learn valuable tools 
 to manage anxiety and cultivate a positive mindset. The program includes v
 arious meditation styles\, including breath awareness\, body scans\, and v
 isualization techniques. These practices not only foster relaxation but al
 so empower individuals to develop a greater sense of self-awareness and em
 otional resilience.\n\nUWOK Mindfulness Guided Meditation emphasizes the i
 mportance of consistency in practice. Participants are encouraged to integ
 rate mindfulness into their daily routines\, enabling them to carry the be
 nefits of meditation beyond the sessions and into their everyday lives. Th
 e program creates a supportive community where individuals can share their
  experiences and insights\, further enhancing their mindfulness journey.\n
 \nBy joining the UWOK Mindfulness Guided Meditation\, individuals can emba
 rk on a transformative path towards mental clarity\, emotional stability\,
  and overall well-being.\n\nGET TICKETS\n
ATTACH;FMTTYPE=image/jpeg:https://breatheatlanta.us/wp-content/uploads/202
 4/10/UWOK-Mindfulness-Guided-Meditation.jpg
CATEGORIES:Wellness Events
LOCATION:Vinings\, 3444 Cobb Pkwy Vinings\, Atlanta\, Georgia\, 30339 \, GA
 \, United States
X-APPLE-STRUCTURED-LOCATION;VALUE=URI;X-ADDRESS=3444 Cobb Pkwy Vinings\, At
 lanta\, Georgia\, 30339 \, GA\, United States;X-APPLE-RADIUS=100;X-TITLE=V
 inings:geo:0,0
END:VEVENT
BEGIN:VTIMEZONE
TZID:America/New_York
X-LIC-LOCATION:America/New_York
BEGIN:DAYLIGHT
DTSTART:20240310T030000
TZOFFSETFROM:-0500
TZOFFSETTO:-0400
TZNAME:EDT
END:DAYLIGHT
END:VTIMEZONE
END:VCALENDAR